Workbook
Name ポートフォリオ一覧_一覧用_賃貸可能面積: 賃貸可能面積!$Q$48:$Q$86

Sheet 物件別収支
AM1: （単位：百万円）
D2: エリアⅠ | S2: エリアⅡ | W2: エリアⅢ | AL2: その他 | AM2: 合計
D3: Ⅰ-1 | E3: Ⅰ-2 | F3: Ⅰ-3 | G3: Ⅰ-8 | H3: Ⅰ-10 | I3: Ⅰ-12 | J3: Ⅰ-14 | K3: Ⅰ-15 | L3: Ⅰ-16 | M3: Ⅰ-17 | N3: Ⅰ-18 | O3: Ⅰ-19 | P3: Ⅰ-20 | Q3: Ⅰ-21 | R3: Ⅰ-22 | S3: Ⅱ-1 | T3: Ⅱ-4 | U3: Ⅱ-5 | V3: Ⅱ-6 | W3: Ⅲ-1 | X3: Ⅲ-5 | Y3: Ⅲ-7 | Z3: Ⅲ-11 | AA3: Ⅲ-12 | AB3: Ⅲ-13 | AC3: Ⅲ-14 | AD3: Ⅲ-15 | AE3: Ⅳ-3 | AF3: Ⅳ-4 | AG3: Ⅳ-5 | AH3: Ⅳ-6 | AI3: Ⅳ-7 | AJ3: Ⅳ-8 | AK3: Ⅳ-10
D4: 大森 | E4: 芝 二丁目 | F4: 浜松町 | G4: 赤坂 ｲﾝﾀｰ ｼﾃｨ | H4: 台場 ｶﾞｰﾃﾞﾝ ｼﾃｨ | I4: 浜離宮 ｲﾝﾀｰ ｼﾃｨ | J4: 興和 西新橋 | K4: ﾏﾝｻｰﾄﾞ 代官山 | L4: 赤坂 ｲﾝﾀｰ ｼﾃｨ AIR | M4: BIZ CORE 赤坂 見附 | N4: BIZ CORE 神保町 | O4: BIZ CORE 渋谷 | P4: BIZ CORE 築地 | Q4: 大崎 ﾌﾞﾗｲﾄ ﾀﾜｰ･ ﾌﾟﾗｻﾞ | R4: ｱｰｸﾋﾙｽﾞﾌﾛﾝﾄﾀﾜｰ | S4: NHK 名古屋 | T4: ｸﾞﾗﾝﾌﾛﾝﾄ大阪 | V4: ｱｸｱ ﾀｳﾝ 納屋橋 | W4: 武蔵 小杉 | X4: 川崎 日進町 | Y4: 両国 | Z4: ｺｱｼﾃｨ 立川 | AA4: 日石 横浜 | AB4: 横浜 弁天通 | AC4: 新横浜 ｱﾘｰﾅ 通り | AD4: 浦和 SH | AE4: 広島 八丁堀 | AF4: SE 札幌 | AG4: 青葉通 ﾌﾟﾗｻﾞ | AH4: 大和 南森町 | AI4: 那覇 | AJ4: 広島 OS | AK4: 札幌 大手町
T5: （うめきた広場・ 南館） | U5: （北館）
A6: 不動産賃貸事業収益 | D6: 897 | E6: 382 | F6: 10 | G6: 626 | H6: 356 | I6: 823 | J6: - | K6: 296 | L6: - | M6: 127 | N6: 265 | O6: 156 | P6: - | Q6: - | R6: 466 | S6: 367 | T6: - | U6: - | V6: 121 | W6: 813 | X6: 217 | Y6: 123 | Z6: 326 | AA6: 1222 | AB6: 41 | AC6: 65 | AD6: - | AE6: 160 | AF6: 437 | AG6: 192 | AH6: 197 | AI6: 90 | AJ6: 161 | AK6: 128 | AL6: - | AM6: 10920
B7: 賃貸事業収入 | D7: 844 | E7: 381 | F7: 9 | G7: 586 | H7: 311 | I7: 766 | J7: - | K7: 280 | L7: - | M7: 121 | N7: 249 | O7: 150 | P7: - | Q7: - | R7: 442 | S7: - | T7: - | U7: - | V7: 116 | W7: 732 | X7: 213 | Y7: 114 | Z7: 313 | AA7: 1121 | AB7: 38 | AC7: 57 | AD7: - | AE7: 148 | AF7: 352 | AG7: 173 | AH7: 181 | AI7: 79 | AJ7: 154 | AK7: 119 | AL7: - | AM7: 10131
B8: その他賃貸事業収入 | D8: 52 | E8: 0 | F8: 0 | G8: 40 | H8: 44 | I8: 56 | J8: - | K8: 16 | L8: - | M8: 6 | N8: 16 | O8: 5 | P8: - | Q8: - | R8: 23 | S8: - | T8: - | U8: - | V8: 5 | W8: 81 | X8: 3 | Y8: 9 | Z8: 12 | AA8: 100 | AB8: 2 | AC8: 7 | AD8: - | AE8: 11 | AF8: 84 | AG8: 18 | AH8: 15 | AI8: 11 | AJ8: 7 | AK8: 9 | AL8: - | AM8: 789
A9: 不動産賃貸事業費用 | D9: 472 | E9: 165 | F9: 7 | G9: 284 | H9: 209 | I9: 447 | J9: - | K9: 134 | L9: - | M9: 55 | N9: 91 | O9: 61 | P9: - | Q9: - | R9: 169 | S9: 265 | T9: - | U9: - | V9: 44 | W9: 430 | X9: 123 | Y9: 75 | Z9: 131 | AA9: 823 | AB9: 27 | AC9: 30 | AD9: - | AE9: 98 | AF9: 228 | AG9: 123 | AH9: 81 | AI9: 56 | AJ9: 88 | AK9: 78 | AL9: - | AM9: 5681
B10: 維持管理費 | D10: 131 | E10: 61 | F10: 0 | G10: 88 | H10: 48 | I10: 128 | J10: - | K10: 26 | L10: - | M10: 13 | N10: 31 | O10: 19 | P10: - | Q10: - | R10: 80 | S10: 69 | T10: - | U10: - | V10: 23 | W10: 118 | X10: 55 | Y10: 21 | Z10: 35 | AA10: 196 | AB10: 7 | AC10: 9 | AD10: - | AE10: 19 | AF10: 48 | AG10: 39 | AH10: 24 | AI10: 10 | AJ10: 26 | AK10: 17 | AL10: - | AM10: 1617
B11: 水道光熱費 | D11: 103 | E11: - | F11: 0 | G11: 47 | H11: 37 | I11: 68 | J11: - | K11: 22 | L11: - | M11: 6 | N11: 8 | O11: 6 | P11: - | Q11: - | R11: 17 | S11: 31 | T11: - | U11: - | V11: 3 | W11: 82 | X11: - | Y11: 9 | Z11: 39 | AA11: 207 | AB11: 5 | AC11: 7 | AD11: - | AE11: 12 | AF11: 72 | AG11: 17 | AH11: 10 | AI11: 6 | AJ11: 13 | AK11: 14 | AL11: - | AM11: 973
B12: 公租公課 | D12: 79 | E12: 32 | F12: 1 | G12: 42 | H12: 38 | I12: 55 | J12: - | K12: 38 | L12: - | M12: 22 | N12: 17 | O12: 12 | P12: - | Q12: - | R12: 16 | S12: 25 | T12: - | U12: - | V12: - | W12: 82 | X12: 18 | Y12: 8 | Z12: 21 | AA12: 137 | AB12: 4 | AC12: 4 | AD12: - | AE12: 21 | AF12: 29 | AG12: 23 | AH12: 15 | AI12: 5 | AJ12: 14 | AK12: 15 | AL12: - | AM12: 1008
B13: 損害保険料 | D13: 1 | E13: 0 | F13: 0 | G13: 1 | H13: 0 | I13: 2 | J13: - | K13: 0 | L13: - | M13: 0 | N13: 0 | O13: 0 | P13: - | Q13: - | R13: 0 | S13: 0 | T13: - | U13: - | V13: 0 | W13: 1 | X13: 0 | Y13: 0 | Z13: 1 | AA13: 3 | AB13: 0 | AC13: 0 | AD13: - | AE13: 0 | AF13: 0 | AG13: 0 | AH13: 0 | AI13: 0 | AJ13: 0 | AK13: 0 | AL13: - | AM13: 25
B14: 修繕工事費 | D14: 8 | E14: 1 | F14: 0 | G14: 6 | H14: 0 | I14: 15 | J14: - | K14: 2 | L14: - | M14: 0 | N14: 0 | O14: 1 | P14: - | Q14: - | R14: 9 | S14: 2 | T14: - | U14: - | V14: 0 | W14: 5 | X14: 1 | Y14: 0 | Z14: 1 | AA14: 11 | AB14: 1 | AC14: 1 | AD14: - | AE14: 0 | AF14: 2 | AG14: 0 | AH14: 2 | AI14: 2 | AJ14: 0 | AK14: 2 | AL14: - | AM14: 138
B15: その他費用 | D15: 15 | E15: 1 | F15: 1 | G15: 3 | H15: 2 | I15: 8 | J15: - | K15: 1 | L15: - | M15: 0 | N15: 0 | O15: 0 | P15: - | Q15: - | R15: 0 | S15: 35 | T15: - | U15: - | V15: 0 | W15: 3 | X15: 1 | Y15: 1 | Z15: 0 | AA15: 2 | AB15: 0 | AC15: 0 | AD15: - | AE15: 0 | AF15: 0 | AG15: 0 | AH15: 0 | AI15: 5 | AJ15: 0 | AK15: 0 | AL15: - | AM15: 115
B16: 減価償却費 | D16: 131 | E16: 67 | F16: 3 | G16: 95 | H16: 81 | I16: 167 | J16: 44 | K16: 42 | L16: 28 | M16: 13 | N16: 31 | O16: 19 | P16: 27 | Q16: 47 | R16: 44 | S16: 100 | T16: - | U16: - | V16: 16 | W16: 137 | X16: 46 | Y16: 32 | Z16: 31 | AA16: 262 | AB16: 7 | AC16: 7 | AD16: 4 | AE16: 43 | AF16: 72 | AG16: 40 | AH16: 25 | AI16: 25 | AJ16: 32 | AK16: 26 | AL16: - | AM16: 1803
A17: 不動産賃貸事業損益 | D17: 424 | E17: 216 | F17: 3 | G17: 342 | H17: 146 | I17: 376 | J17: 189 | K17: 162 | L17: 128 | M17: 71 | N17: 173 | O17: 95 | P17: 168 | Q17: 188 | R17: 296 | S17: 101 | T17: 167 | U17: 90 | V17: 77 | W17: 382 | X17: 93 | Y17: 48 | Z17: 195 | AA17: 398 | AB17: 13 | AC17: 34 | AD17: 38 | AE17: 61 | AF17: 209 | AG17: 68 | AH17: 115 | AI17: 34 | AJ17: 73 | AK17: 50 | AL17: - | AM17: 5239
A18: NOI | D18: 556 | E18: 284 | F18: 6 | G18: 437 | H18: 227 | I18: 543 | J18: 233 | K18: 205 | L18: 156 | M18: 85 | N18: 205 | O18: 114 | P18: 195 | Q18: 235 | R18: 340 | S18: 202 | T18: 187 | U18: 114 | V18: 93 | W18: 520 | X18: 139 | Y18: 81 | Z18: 226 | AA18: 661 | AB18: 21 | AC18: 41 | AD18: 43 | AE18: 104 | AF18: 282 | AG18: 109 | AH18: 141 | AI18: 59 | AJ18: 105 | AK18: 77 | AL18: 0 | AM18: 7043
A19: NOI（年換算値） | D19: 1121 | E19: 573 | F19: 162 | G19: 882 | H19: 459 | I19: 1096 | J19: 471 | K19: 414 | L19: 316 | M19: 171 | N19: 414 | O19: 230 | P19: 394 | Q19: 474 | R19: 686 | S19: 407 | T19: 378 | U19: 231 | V19: 276 | W19: 1048 | X19: 281 | Y19: 164 | Z19: 457 | AA19: 1333 | AB19: 43 | AC19: 83 | AD19: 86 | AE19: 211 | AF19: 568 | AG19: 220 | AH19: 285 | AI19: 119 | AJ19: 212 | AK19: 156 | AL19: 0 | AM19: 14439
A20: 日数（日） | D20: 181 | E20: 181 | F20: 15 | G20: 181 | H20: 181 | I20: 181 | J20: 181 | K20: 181 | L20: 181 | M20: 181 | N20: 181 | O20: 181 | P20: 181 | Q20: 181 | R20: 181 | S20: 181 | T20: 181 | U20: 181 | V20: 124 | W20: 181 | X20: 181 | Y20: 181 | Z20: 181 | AA20: 181 | AB20: 181 | AC20: 181 | AD20: 181 | AE20: 181 | AF20: 181 | AG20: 181 | AH20: 181 | AI20: 181 | AJ20: 181 | AK20: 181 | AL20: 181
A21: 取得価格 | D21: 22552 | E21: 9450 | F21: 4592 | G21: 28146 | H21: 11000 | I21: 19080 | J21: 11431 | K21: 11420 | L21: 12135 | M21: 6200 | N21: 10860 | O21: 6640 | P21: 9800 | Q21: 13100 | R21: 17250 | S21: 5610 | T21: 9518 | U21: 7632 | V21: 6000 | W21: 13890 | X21: 4725 | Y21: 2550 | Z21: 6500 | AA21: 24500 | AB21: 640 | AC21: 2077 | AD21: 1760 | AE21: 2760 | AF21: 5500 | AG21: 2120 | AH21: 4410 | AI21: 1380 | AJ21: 2780 | AK21: 4069 | AL21: 0
A23: ■ NOI利回り
A24: 第40期 | D24: 0.05 | E24: 0.061 | F24: 0.035 | G24: 0.031 | H24: 0.042 | I24: 0.057 | J24: 0.041 | K24: 0.036 | L24: 0.032 | M24: 0.028 | N24: 0.038 | O24: 0.035 | P24: 0.04 | Q24: 0.036 | R24: 0.04 | S24: 0.073 | T24: 0.04 | U24: 0.03 | V24: 0.046 | W24: 0.076 | X24: 0.06 | Y24: 0.065 | Z24: 0.07 | AA24: 0.054 | AB24: 0.068 | AC24: 0.04 | AD24: 0.049 | AE24: 0.077 | AF24: 0.103 | AG24: 0.104 | AH24: 0.065 | AI24: 0.087 | AJ24: 0.076 | AK24: 0.038 | AL24: - | AM24: 0.04837353
A25: 第39期 | D25: 0.049 | E25: 0.061 | F25: 0.035 | G25: 0.03 | H25: 0.05 | I25: 0.057 | J25: 0.04 | K25: 0.033 | L25: 0.03 | M25: 0.029 | N25: 0.036 | O25: 0.038 | P25: 0.038 | Q25: 0.035 | R25: 0.036 | S25: 0.072 | T25: 0.036 | U25: 0.051 | V25: - | W25: 0.074 | X25: 0.061 | Y25: 0.066 | Z25: 0.064 | AA25: 0.058 | AB25: 0.075 | AC25: 0.033 | AD25: 0.04 | AE25: 0.07 | AF25: 0.099 | AG25: 0.097 | AH25: 0.062 | AI25: 0.088 | AJ25: 0.07 | AK25: 0.058 | AL25: - | AM25: 0.048006281
A26: 差異（pt） | D26: 0.1 | E26: 0 | F26: 0 | G26: 0.1 | H26: -0.8 | I26: 0 | J26: 0.1 | K26: 0.3 | L26: 0.2 | M26: -0.1 | N26: 0.2 | O26: -0.3 | P26: 0.2 | Q26: 0.1 | R26: 0.4 | S26: 0.1 | T26: 0.4 | U26: -2.1 | V26: - | W26: 0.2 | X26: -0.1 | Y26: -0.1 | Z26: 0.6 | AA26: -0.4 | AB26: -0.7 | AC26: 0.7 | AD26: 0.9 | AE26: 0.7 | AF26: 0.4 | AG26: 0.7 | AH26: 0.3 | AI26: -0.1 | AJ26: 0.6 | AK26: -2 | AL26: - | AM26: 0.036724936
A28: ■ 償却後NOI利回り
A29: 第40期 | D29: 0.038 | E29: 0.046 | F29: 0.018 | G29: 0.025 | H29: 0.027 | I29: 0.04 | J29: 0.033 | K29: 0.029 | L29: 0.026 | M29: 0.023 | N29: 0.032 | O29: 0.029 | P29: 0.035 | Q29: 0.029 | R29: 0.035 | S29: 0.037 | T29: 0.036 | U29: 0.024 | V29: 0.038 | W29: 0.056 | X29: 0.04 | Y29: 0.039 | Z29: 0.061 | AA29: 0.033 | AB29: 0.042 | AC29: 0.033 | AD29: 0.044 | AE29: 0.045 | AF29: 0.077 | AG29: 0.065 | AH29: 0.053 | AI29: 0.05 | AJ29: 0.053 | AK29: 0.025 | AL29: - | AM29: 0.036
A30: 第39期 | D30: 0.037 | E30: 0.048 | F30: 0.026 | G30: 0.023 | H30: 0.035 | I30: 0.04 | J30: 0.033 | K30: 0.025 | L30: 0.024 | M30: 0.024 | N30: 0.03 | O30: 0.032 | P30: 0.033 | Q30: 0.028 | R30: 0.031 | S30: 0.037 | T30: 0.032 | U30: 0.044 | V30: - | W30: 0.054 | X30: 0.042 | Y30: 0.041 | Z30: 0.053 | AA30: 0.037 | AB30: 0.052 | AC30: 0.026 | AD30: 0.032 | AE30: 0.041 | AF30: 0.071 | AG30: 0.062 | AH30: 0.051 | AI30: 0.052 | AJ30: 0.049 | AK30: 0.047 | AL30: - | AM30: 0.0359
A31: 差異（pt） | D31: 0.1 | E31: -0.2 | F31: -0.8 | G31: 0.2 | H31: -0.8 | I31: 0 | J31: 0 | K31: 0.4 | L31: 0.2 | M31: -0.1 | N31: 0.2 | O31: -0.3 | P31: 0.2 | Q31: 0.1 | R31: 0.4 | S31: 0 | T31: 0.4 | U31: -2 | V31: - | W31: 0.2 | X31: -0.2 | Y31: -0.2 | Z31: 0.8 | AA31: -0.4 | AB31: -1 | AC31: 0.7 | AD31: 1.2 | AE31: 0.4 | AF31: 0.6 | AG31: 0.3 | AH31: 0.2 | AI31: -0.2 | AJ31: 0.4 | AK31: -2.2 | AL31: - | AM31: 0.01
A33: ■ エリア別内訳 | G33: （単位：百万円）
D34: エリアⅠ 合計 | E34: エリアⅡ 合計 | F34: エリアⅢ 合計 | G34: エリアⅣ 合計
A35: NOI | D35: 3829 | E35: 598 | F35: 1735 | G35: 880
A36: 第40期NOI利回り | D36: 0.041 | E36: 0.045 | F36: 0.062 | G36: 0.077
A37: 第39期NOI利回り | D37: 0.04 | E37: 0.05 | F37: 0.062 | G37: 0.074
A38: 差異（pt） | D38: 0.1 | E38: -0.5 | F38: 0 | G38: 0.3

Sheet 【期別】
A1: 合計 | B1: ← 参照する「物件名」または「合計」を選択してください。
A4: 期 | C4: 1 | D4: 2 | E4: 3 | F4: 4 | G4: 5 | H4: 6 | I4: 7 | J4: 8 | K4: 9 | L4: 10 | M4: 11 | N4: 12 | O4: 13 | P4: 14 | Q4: 15 | R4: 16 | S4: 17 | T4: 18 | U4: 19 | V4: 20 | W4: 21 | X4: 22 | Y4: 23 | Z4: 24 | AA4: 25 | AB4: 26 | AC4: 27 | AD4: 28 | AE4: 29 | AF4: 30 | AG4: 31 | AH4: 32 | AI4: 33 | AJ4: 34 | AK4: 35 | AL4: 36 | AM4: 37 | AN4: 38 | AO4: 39 | AP4: 40
B5: 自 | C5: 38768 | D5: 39083 | E5: 39264 | F5: 39448 | G5: 39630 | H5: 39814 | I5: 39995 | J5: 40179 | K5: 40360 | L5: 40544 | M5: 40725 | N5: 40909 | O5: 41091 | P5: 41275 | Q5: 41456 | R5: 41640 | S5: 41821 | T5: 42005 | U5: 42186 | V5: 42370 | W5: 42552 | X5: 42736 | Y5: 42917 | Z5: 43101 | AA5: 43282 | AB5: 43466 | AC5: 43647 | AD5: 43831 | AE5: 44013 | AF5: 44197 | AG5: 44378 | AH5: 44562 | AI5: 44743 | AJ5: 44927 | AK5: 45108 | AL5: 45292 | AM5: 45474 | AN5: 45658 | AO5: 45839 | AP5: 46023
B6: 至 | C6: 39082 | D6: 39263 | E6: 39447 | F6: 39629 | G6: 39813 | H6: 39994 | I6: 40178 | J6: 40359 | K6: 40543 | L6: 40724 | M6: 40908 | N6: 41090 | O6: 41274 | P6: 41455 | Q6: 41639 | R6: 41820 | S6: 42004 | T6: 42185 | U6: 42369 | V6: 42551 | W6: 42735 | X6: 42916 | Y6: 43100 | Z6: 43281 | AA6: 43465 | AB6: 43646 | AC6: 43830 | AD6: 44012 | AE6: 44196 | AF6: 44377 | AG6: 44561 | AH6: 44742 | AI6: 44926 | AJ6: 45107 | AK6: 45291 | AL6: 45473 | AM6: 45657 | AN6: 45838 | AO6: 46022 | AP6: 46203
A7: 取得価格 | B7: （百万円） | C7: =IF(VLOOKUP($A$1,取得価格!$B$7:$AA$73,C$4+1,FALSE)="","",VLOOKUP($A$1,取得価格!$B$7:$AA$73,C$4+1,FALSE)) -> 98446 | D7: =IF(VLOOKUP($A$1,取得価格!$B$7:$AA$73,D$4+1,FALSE)="","",VLOOKUP($A$1,取得価格!$B$7:$AA$73,D$4+1,FALSE)) -> 139127 | E7: =IF(VLOOKUP($A$1,取得価格!$B$7:$AA$73,E$4+1,FALSE)="","",VLOOKUP($A$1,取得価格!$B$7:$AA$73,E$4+1,FALSE)) -> 188984 | F7: =IF(VLOOKUP($A$1,取得価格!$B$7:$AA$73,F$4+1,FALSE)="","",VLOOKUP($A$1,取得価格!$B$7:$AA$73,F$4+1,FALSE)) -> 188984 | G7: =IF(VLOOKUP($A$1,取得価格!$B$7:$AA$73,G$4+1,FALSE)="","",VLOOKUP($A$1,取得価格!$B$7:$AA$73,G$4+1,FALSE)) -> 189284 | H7: =IF(VLOOKUP($A$1,取得価格!$B$7:$AA$73,H$4+1,FALSE)="","",VLOOKUP($A$1,取得価格!$B$7:$AA$73,H$4+1,FALSE)) -> 181023 | I7: =IF(VLOOKUP($A$1,取得価格!$B$7:$AA$73,I$4+1,FALSE)="","",VLOOKUP($A$1,取得価格!$B$7:$AA$73,I$4+1,FALSE)) -> 181023 | J7: =IF(VLOOKUP($A$1,取得価格!$B$7:$AA$73,J$4+1,FALSE)="","",VLOOKUP($A$1,取得価格!$B$7:$AA$73,J$4+1,FALSE)) -> 181023 | ... AA7: =IF(VLOOKUP($A$1,取得価格!$B$7:$AA$73,AA$4+1,FALSE)="","",VLOOKUP($A$1,取得価格!$B$7:$AA$73,AA$4+1,FALSE)) -> 273587 | AB7: =IF(VLOOKUP($A$1,取得価格!$B$7:AB$73,AB$4+1,FALSE)="","",VLOOKUP($A$1,取得価格!$B$7:AB$73,AB$4+1,FALSE)) -> 273587 | AC7: =IF(VLOOKUP($A$1,取得価格!$B$7:AC$73,AC$4+1,FALSE)="","",VLOOKUP($A$1,取得価格!$B$7:AC$73,AC$4+1,FALSE)) -> 279433 | AD7: =IF(VLOOKUP($A$1,取得価格!$B$7:AD$73,AD$4+1,FALSE)="","",VLOOKUP($A$1,取得価格!$B$7:AD$73,AD$4+1,FALSE)) -> 273345 | AE7: =IF(VLOOKUP($A$1,取得価格!$B$7:AE$73,AE$4+1,FALSE)="","",VLOOKUP($A$1,取得価格!$B$7:AE$73,AE$4+1,FALSE)) -> 272344 | AF7: =IF(VLOOKUP($A$1,取得価格!$B$7:AF$73,AF$4+1,FALSE)="","",VLOOKUP($A$1,取得価格!$B$7:AF$73,AF$4+1,FALSE)) -> 282544 | AG7: =IF(VLOOKUP($A$1,取得価格!$B$7:AG$73,AG$4+1,FALSE)="","",VLOOKUP($A$1,取得価格!$B$7:AG$73,AG$4+1,FALSE)) -> 286613 | AH7: =IF(VLOOKUP($A$1,取得価格!$B$7:AH$73,AH$4+1,FALSE)="","",VLOOKUP($A$1,取得価格!$B$7:AH$73,AH$4+1,FALSE)) -> 281908 | AI7: =IF(VLOOKUP($A$1,取得価格!$B$7:AI$73,AI$4+1,FALSE)="","",VLOOKUP($A$1,取得価格!$B$7:AI$73,AI$4+1,FALSE)) -> 287848 | ... AL7: =IF(VLOOKUP($A$1,取得価格!$B$7:AL$73,AL$4+1,FALSE)="","",VLOOKUP($A$1,取得価格!$B$7:AL$73,AL$4+1,FALSE)) -> 294347 | AM7: =IF(VLOOKUP($A$1,取得価格!$B$7:AN$73,AM$4+1,FALSE)="","",VLOOKUP($A$1,取得価格!$B$7:AN$73,AM$4+1,FALSE)) -> 279441 | AN7: =IF(VLOOKUP($A$1,取得価格!$B$7:AN$73,AN$4+1,FALSE)="","",VLOOKUP($A$1,取得価格!$B$7:AN$73,AN$4+1,FALSE)) -> 293451 | AO7: =IF(VLOOKUP($A$1,取得価格!$B$7:AO$73,AO$4+1,FALSE)="","",VLOOKUP($A$1,取得価格!$B$7:AO$73,AO$4+1,FALSE)) -> 290534 | AP7: =IF(VLOOKUP($A$1,取得価格!$B$7:AP$73,AP$4+1,FALSE)="","",VLOOKUP($A$1,取得価格!$B$7:AP$73,AP$4+1,FALSE)) -> 297486
A8: 期末算定価格 | B8: （百万円） | C8: =IF(VLOOKUP($A$1,期末算定価格!$B$7:$AA$73,C$4+1,FALSE)="","",VLOOKUP($A$1,期末算定価格!$B$7:$AA$73,C$4+1,FALSE)) -> 107732 | D8: =IF(VLOOKUP($A$1,期末算定価格!$B$7:$AA$73,D$4+1,FALSE)="","",VLOOKUP($A$1,期末算定価格!$B$7:$AA$73,D$4+1,FALSE)) -> 153409 | E8: =IF(VLOOKUP($A$1,期末算定価格!$B$7:$AA$73,E$4+1,FALSE)="","",VLOOKUP($A$1,期末算定価格!$B$7:$AA$73,E$4+1,FALSE)) -> 213188 | F8: =IF(VLOOKUP($A$1,期末算定価格!$B$7:$AA$73,F$4+1,FALSE)="","",VLOOKUP($A$1,期末算定価格!$B$7:$AA$73,F$4+1,FALSE)) -> 214485 | G8: =IF(VLOOKUP($A$1,期末算定価格!$B$7:$AA$73,G$4+1,FALSE)="","",VLOOKUP($A$1,期末算定価格!$B$7:$AA$73,G$4+1,FALSE)) -> 192330 | H8: =IF(VLOOKUP($A$1,期末算定価格!$B$7:$AA$73,H$4+1,FALSE)="","",VLOOKUP($A$1,期末算定価格!$B$7:$AA$73,H$4+1,FALSE)) -> 183464 | I8: =IF(VLOOKUP($A$1,期末算定価格!$B$7:$AA$73,I$4+1,FALSE)="","",VLOOKUP($A$1,期末算定価格!$B$7:$AA$73,I$4+1,FALSE)) -> 177088 | J8: =IF(VLOOKUP($A$1,期末算定価格!$B$7:$AA$73,J$4+1,FALSE)="","",VLOOKUP($A$1,期末算定価格!$B$7:$AA$73,J$4+1,FALSE)) -> 173858 | ... AA8: =IF(VLOOKUP($A$1,期末算定価格!$B$7:$AA$73,AA$4+1,FALSE)="","",VLOOKUP($A$1,期末算定価格!$B$7:$AA$73,AA$4+1,FALSE)) -> 303455 | AB8: =IF(VLOOKUP($A$1,期末算定価格!$B$7:AB$73,AB$4+1,FALSE)="","",VLOOKUP($A$1,期末算定価格!$B$7:AB$73,AB$4+1,FALSE)) -> 310488 | AC8: =IF(VLOOKUP($A$1,期末算定価格!$B$7:AC$73,AC$4+1,FALSE)="","",VLOOKUP($A$1,期末算定価格!$B$7:AC$73,AC$4+1,FALSE)) -> 319662 | AD8: =IF(VLOOKUP($A$1,期末算定価格!$B$7:AD$73,AD$4+1,FALSE)="","",VLOOKUP($A$1,期末算定価格!$B$7:AD$73,AD$4+1,FALSE)) -> 318366 | AE8: =IF(VLOOKUP($A$1,期末算定価格!$B$7:AE$73,AE$4+1,FALSE)="","",VLOOKUP($A$1,期末算定価格!$B$7:AE$73,AE$4+1,FALSE)) -> 318162 | AF8: =IF(VLOOKUP($A$1,期末算定価格!$B$7:AF$73,AF$4+1,FALSE)="","",VLOOKUP($A$1,期末算定価格!$B$7:AF$73,AF$4+1,FALSE)) -> 329162 | AG8: =IF(VLOOKUP($A$1,期末算定価格!$B$7:AG$73,AG$4+1,FALSE)="","",VLOOKUP($A$1,期末算定価格!$B$7:AG$73,AG$4+1,FALSE)) -> 339412 | AH8: =IF(VLOOKUP($A$1,期末算定価格!$B$7:AH$73,AH$4+1,FALSE)="","",VLOOKUP($A$1,期末算定価格!$B$7:AH$73,AH$4+1,FALSE)) -> 337844 | AI8: =IF(VLOOKUP($A$1,期末算定価格!$B$7:AI$73,AI$4+1,FALSE)="","",VLOOKUP($A$1,期末算定価格!$B$7:AI$73,AI$4+1,FALSE)) -> 344863 | ... AL8: =IF(VLOOKUP($A$1,期末算定価格!$B$7:AL$73,AL$4+1,FALSE)="","",VLOOKUP($A$1,期末算定価格!$B$7:AL$73,AL$4+1,FALSE)) -> 348139 | AM8: =IF(VLOOKUP($A$1,期末算定価格!$B$7:AP$73,AM$4+1,FALSE)="","",VLOOKUP($A$1,期末算定価格!$B$7:AP$73,AM$4+1,FALSE)) -> 334408 | AN8: =IF(VLOOKUP($A$1,期末算定価格!$B$7:AP$73,AN$4+1,FALSE)="","",VLOOKUP($A$1,期末算定価格!$B$7:AP$73,AN$4+1,FALSE)) -> 349561 | AO8: =IF(VLOOKUP($A$1,期末算定価格!$B$7:AP$73,AO$4+1,FALSE)="","",VLOOKUP($A$1,期末算定価格!$B$7:AP$73,AO$4+1,FALSE)) -> 351603 | AP8: =IF(VLOOKUP($A$1,期末算定価格!$B$7:AQ$73,AP$4+1,FALSE)="","",VLOOKUP($A$1,期末算定価格!$B$7:AQ$73,AP$4+1,FALSE)) -> 362561
A9: 期末帳簿価格 | B9: （百万円） | C9: =IF(VLOOKUP($A$1,期末帳簿価格!$B$7:$AA$73,C$4+1,FALSE)="","",VLOOKUP($A$1,期末帳簿価格!$B$7:$AA$73,C$4+1,FALSE)) -> 98921 | D9: =IF(VLOOKUP($A$1,期末帳簿価格!$B$7:$AA$73,D$4+1,FALSE)="","",VLOOKUP($A$1,期末帳簿価格!$B$7:$AA$73,D$4+1,FALSE)) -> 139868 | E9: =IF(VLOOKUP($A$1,期末帳簿価格!$B$7:$AA$73,E$4+1,FALSE)="","",VLOOKUP($A$1,期末帳簿価格!$B$7:$AA$73,E$4+1,FALSE)) -> 189323 | F9: =IF(VLOOKUP($A$1,期末帳簿価格!$B$7:$AA$73,F$4+1,FALSE)="","",VLOOKUP($A$1,期末帳簿価格!$B$7:$AA$73,F$4+1,FALSE)) -> 188824 | G9: =IF(VLOOKUP($A$1,期末帳簿価格!$B$7:$AA$73,G$4+1,FALSE)="","",VLOOKUP($A$1,期末帳簿価格!$B$7:$AA$73,G$4+1,FALSE)) -> 180733 | H9: =IF(VLOOKUP($A$1,期末帳簿価格!$B$7:$AA$73,H$4+1,FALSE)="","",VLOOKUP($A$1,期末帳簿価格!$B$7:$AA$73,H$4+1,FALSE)) -> 180016 | I9: =IF(VLOOKUP($A$1,期末帳簿価格!$B$7:$AA$73,I$4+1,FALSE)="","",VLOOKUP($A$1,期末帳簿価格!$B$7:$AA$73,I$4+1,FALSE)) -> 179165 | J9: =IF(VLOOKUP($A$1,期末帳簿価格!$B$7:$AA$73,J$4+1,FALSE)="","",VLOOKUP($A$1,期末帳簿価格!$B$7:$AA$73,J$4+1,FALSE)) -> 178434 | ... AA9: =IF(VLOOKUP($A$1,期末帳簿価格!$B$7:$AA$73,AA$4+1,FALSE)="","",VLOOKUP($A$1,期末帳簿価格!$B$7:$AA$73,AA$4+1,FALSE)) -> 258689 | AB9: =IF(VLOOKUP($A$1,期末帳簿価格!$B$7:AB$73,AB$4+1,FALSE)="","",VLOOKUP($A$1,期末帳簿価格!$B$7:AB$73,AB$4+1,FALSE)) -> 258028 | AC9: =IF(VLOOKUP($A$1,期末帳簿価格!$B$7:AC$73,AC$4+1,FALSE)="","",VLOOKUP($A$1,期末帳簿価格!$B$7:AC$73,AC$4+1,FALSE)) -> 262443 | AD9: =IF(VLOOKUP($A$1,期末帳簿価格!$B$7:AD$73,AD$4+1,FALSE)="","",VLOOKUP($A$1,期末帳簿価格!$B$7:AD$73,AD$4+1,FALSE)) -> 257186 | AE9: =IF(VLOOKUP($A$1,期末帳簿価格!$B$7:AE$73,AE$4+1,FALSE)="","",VLOOKUP($A$1,期末帳簿価格!$B$7:AE$73,AE$4+1,FALSE)) -> 255463 | AF9: =IF(VLOOKUP($A$1,期末帳簿価格!$B$7:AF$73,AF$4+1,FALSE)="","",VLOOKUP($A$1,期末帳簿価格!$B$7:AF$73,AF$4+1,FALSE)) -> 265113 | AG9: =IF(VLOOKUP($A$1,期末帳簿価格!$B$7:AG$73,AG$4+1,FALSE)="","",VLOOKUP($A$1,期末帳簿価格!$B$7:AG$73,AG$4+1,FALSE)) -> 268610 | AH9: =IF(VLOOKUP($A$1,期末帳簿価格!$B$7:AH$73,AH$4+1,FALSE)="","",VLOOKUP($A$1,期末帳簿価格!$B$7:AH$73,AH$4+1,FALSE)) -> 263194 | AI9: =IF(VLOOKUP($A$1,期末帳簿価格!$B$7:AI$73,AI$4+1,FALSE)="","",VLOOKUP($A$1,期末帳簿価格!$B$7:AI$73,AI$4+1,FALSE)) -> 268467 | ... AL9: =IF(VLOOKUP($A$1,期末帳簿価格!$B$7:AL$73,AL$4+1,FALSE)="","",VLOOKUP($A$1,期末帳簿価格!$B$7:AL$73,AL$4+1,FALSE)) -> 276277 | AM9: =IF(VLOOKUP($A$1,期末帳簿価格!$B$7:AP$73,AM$4+1,FALSE)="","",VLOOKUP($A$1,期末帳簿価格!$B$7:AP$73,AM$4+1,FALSE)) -> 261310 | AN9: =IF(VLOOKUP($A$1,期末帳簿価格!$B$7:AP$73,AN$4+1,FALSE)="","",VLOOKUP($A$1,期末帳簿価格!$B$7:AP$73,AN$4+1,FALSE)) -> 275111 | AO9: =IF(VLOOKUP($A$1,期末帳簿価格!$B$7:AP$73,AO$4+1,FALSE)="","",VLOOKUP($A$1,期末帳簿価格!$B$7:AP$73,AO$4+1,FALSE)) -> 272046 | AP9: =IF(VLOOKUP($A$1,期末帳簿価格!$B$7:AQ$73,AP$4+1,FALSE)="","",VLOOKUP($A$1,期末帳簿価格!$B$7:AQ$73,AP$4+1,FALSE)) -> 279193
A10: 賃貸可能面積 | B10: （㎡） | C10: =IF(VLOOKUP($A$1,賃貸可能面積!$B$7:$AA$73,C$4+1,FALSE)="","",VLOOKUP($A$1,賃貸可能面積!$B$7:$AA$73,C$4+1,FALSE)) -> 135263.69 | D10: =IF(VLOOKUP($A$1,賃貸可能面積!$B$7:$AA$73,D$4+1,FALSE)="","",VLOOKUP($A$1,賃貸可能面積!$B$7:$AA$73,D$4+1,FALSE)) -> 190051.15 | E10: =IF(VLOOKUP($A$1,賃貸可能面積!$B$7:$AA$73,E$4+1,FALSE)="","",VLOOKUP($A$1,賃貸可能面積!$B$7:$AA$73,E$4+1,FALSE)) -> 234006.62 | F10: =IF(VLOOKUP($A$1,賃貸可能面積!$B$7:$AA$73,F$4+1,FALSE)="","",VLOOKUP($A$1,賃貸可能面積!$B$7:$AA$73,F$4+1,FALSE)) -> 234006.28 | G10: =IF(VLOOKUP($A$1,賃貸可能面積!$B$7:$AA$73,G$4+1,FALSE)="","",VLOOKUP($A$1,賃貸可能面積!$B$7:$AA$73,G$4+1,FALSE)) -> 220521.65 | H10: =IF(VLOOKUP($A$1,賃貸可能面積!$B$7:$AA$73,H$4+1,FALSE)="","",VLOOKUP($A$1,賃貸可能面積!$B$7:$AA$73,H$4+1,FALSE)) -> 220521.66 | I10: =IF(VLOOKUP($A$1,賃貸可能面積!$B$7:$AA$73,I$4+1,FALSE)="","",VLOOKUP($A$1,賃貸可能面積!$B$7:$AA$73,I$4+1,FALSE)) -> 220521.66 | J10: =IF(VLOOKUP($A$1,賃貸可能面積!$B$7:$AA$73,J$4+1,FALSE)="","",VLOOKUP($A$1,賃貸可能面積!$B$7:$AA$73,J$4+1,FALSE)) -> 220474.77 | ... AA10: =IF(VLOOKUP($A$1,賃貸可能面積!$B$7:$AA$73,AA$4+1,FALSE)="","",VLOOKUP($A$1,賃貸可能面積!$B$7:$AA$73,AA$4+1,FALSE)) -> 343830.44 | AB10: =IF(VLOOKUP($A$1,賃貸可能面積!$B$7:AB$73,AB$4+1,FALSE)="","",VLOOKUP($A$1,賃貸可能面積!$B$7:AB$73,AB$4+1,FALSE)) -> 343830.44 | AC10: =IF(VLOOKUP($A$1,賃貸可能面積!$B$7:AC$73,AC$4+1,FALSE)="","",VLOOKUP($A$1,賃貸可能面積!$B$7:AC$73,AC$4+1,FALSE)) -> 345940.29 | AD10: =IF(VLOOKUP($A$1,賃貸可能面積!$B$7:AD$73,AD$4+1,FALSE)="","",VLOOKUP($A$1,賃貸可能面積!$B$7:AD$73,AD$4+1,FALSE)) -> 332701.82 | AE10: =IF(VLOOKUP($A$1,賃貸可能面積!$B$7:AE$73,AE$4+1,FALSE)="","",VLOOKUP($A$1,賃貸可能面積!$B$7:AE$73,AE$4+1,FALSE)) -> 331111.56 | AF10: =IF(VLOOKUP($A$1,賃貸可能面積!$B$7:AF$73,AF$4+1,FALSE)="","",VLOOKUP($A$1,賃貸可能面積!$B$7:AF$73,AF$4+1,FALSE)) -> 336375.4 | AG10: =IF(VLOOKUP($A$1,賃貸可能面積!$B$7:AG$73,AG$4+1,FALSE)="","",VLOOKUP($A$1,賃貸可能面積!$B$7:AG$73,AG$4+1,FALSE)) -> 341069.62 | AH10: =IF(VLOOKUP($A$1,賃貸可能面積!$B$7:AH$73,AH$4+1,FALSE)="","",VLOOKUP($A$1,賃貸可能面積!$B$7:AH$73,AH$4+1,FALSE)) -> 335534.27 | AI10: =IF(VLOOKUP($A$1,賃貸可能面積!$B$7:AI$73,AI$4+1,FALSE)="","",VLOOKUP($A$1,賃貸可能面積!$B$7:AI$73,AI$4+1,FALSE)) -> 337388.63 | ... AL10: =IF(VLOOKUP($A$1,賃貸可能面積!$B$7:AL$73,AL$4+1,FALSE)="","",VLOOKUP($A$1,賃貸可能面積!$B$7:AL$73,AL$4+1,FALSE)) -> 319257.6 | AM10: =IF(VLOOKUP($A$1,賃貸可能面積!$B$7:AP$73,AM$4+1,FALSE)="","",VLOOKUP($A$1,賃貸可能面積!$B$7:AP$73,AM$4+1,FALSE)) -> 295883.72 | AN10: =IF(VLOOKUP($A$1,賃貸可能面積!$B$7:AP$73,AN$4+1,FALSE)="","",VLOOKUP($A$1,賃貸可能面積!$B$7:AP$73,AN$4+1,FALSE)) -> 302340.95 | AO10: =IF(VLOOKUP($A$1,賃貸可能面積!$B$7:AP$73,AO$4+1,FALSE)="","",VLOOKUP($A$1,賃貸可能面積!$B$7:AP$73,AO$4+1,FALSE)) -> 300200.04 | AP10: =IF(VLOOKUP($A$1,賃貸可能面積!$B$7:AQ$73,AP$4+1,FALSE)="","",VLOOKUP($A$1,賃貸可能面積!$B$7:AQ$73,AP$4+1,FALSE)) -> 303731.22
A11: テナント数 | B11: （件） | C11: =IF(VLOOKUP($A$1,テナント数!$B$7:$AA$73,C$4+1,FALSE)="","",VLOOKUP($A$1,テナント数!$B$7:$AA$73,C$4+1,FALSE)) -> 99 | D11: =IF(VLOOKUP($A$1,テナント数!$B$7:$AA$73,D$4+1,FALSE)="","",VLOOKUP($A$1,テナント数!$B$7:$AA$73,D$4+1,FALSE)) -> 120 | E11: =IF(VLOOKUP($A$1,テナント数!$B$7:$AA$73,E$4+1,FALSE)="","",VLOOKUP($A$1,テナント数!$B$7:$AA$73,E$4+1,FALSE)) -> 132 | F11: =IF(VLOOKUP($A$1,テナント数!$B$7:$AA$73,F$4+1,FALSE)="","",VLOOKUP($A$1,テナント数!$B$7:$AA$73,F$4+1,FALSE)) -> 131 | G11: =IF(VLOOKUP($A$1,テナント数!$B$7:$AA$73,G$4+1,FALSE)="","",VLOOKUP($A$1,テナント数!$B$7:$AA$73,G$4+1,FALSE)) -> 127 | H11: =IF(VLOOKUP($A$1,テナント数!$B$7:$AA$73,H$4+1,FALSE)="","",VLOOKUP($A$1,テナント数!$B$7:$AA$73,H$4+1,FALSE)) -> 126 | I11: =IF(VLOOKUP($A$1,テナント数!$B$7:$AA$73,I$4+1,FALSE)="","",VLOOKUP($A$1,テナント数!$B$7:$AA$73,I$4+1,FALSE)) -> 126 | J11: =IF(VLOOKUP($A$1,テナント数!$B$7:$AA$73,J$4+1,FALSE)="","",VLOOKUP($A$1,テナント数!$B$7:$AA$73,J$4+1,FALSE)) -> 124 | ... AA11: =IF(VLOOKUP($A$1,テナント数!$B$7:$AA$73,AA$4+1,FALSE)="","",VLOOKUP($A$1,テナント数!$B$7:$AA$73,AA$4+1,FALSE)) -> 204 | AB11: =IF(VLOOKUP($A$1,テナント数!$B$7:AB$73,AB$4+1,FALSE)="","",VLOOKUP($A$1,テナント数!$B$7:AB$73,AB$4+1,FALSE)) -> 204 | AC11: =IF(VLOOKUP($A$1,テナント数!$B$7:AC$73,AC$4+1,FALSE)="","",VLOOKUP($A$1,テナント数!$B$7:AC$73,AC$4+1,FALSE)) -> 200 | AD11: =IF(VLOOKUP($A$1,テナント数!$B$7:AD$73,AD$4+1,FALSE)="","",VLOOKUP($A$1,テナント数!$B$7:AD$73,AD$4+1,FALSE)) -> 193 | AE11: =IF(VLOOKUP($A$1,テナント数!$B$7:AE$73,AE$4+1,FALSE)="","",VLOOKUP($A$1,テナント数!$B$7:AE$73,AE$4+1,FALSE)) -> 191 | AF11: =IF(VLOOKUP($A$1,テナント数!$B$7:AF$73,AF$4+1,FALSE)="","",VLOOKUP($A$1,テナント数!$B$7:AF$73,AF$4+1,FALSE)) -> 187 | AG11: =IF(VLOOKUP($A$1,テナント数!$B$7:AG$73,AG$4+1,FALSE)="","",VLOOKUP($A$1,テナント数!$B$7:AG$73,AG$4+1,FALSE)) -> 587 | AH11: =IF(VLOOKUP($A$1,テナント数!$B$7:AH$73,AH$4+1,FALSE)="","",VLOOKUP($A$1,テナント数!$B$7:AH$73,AH$4+1,FALSE)) -> 585 | AI11: =IF(VLOOKUP($A$1,テナント数!$B$7:AI$73,AI$4+1,FALSE)="","",VLOOKUP($A$1,テナント数!$B$7:AI$73,AI$4+1,FALSE)) -> 617 | ... AL11: =IF(VLOOKUP($A$1,テナント数!$B$7:AL$73,AL$4+1,FALSE)="","",VLOOKUP($A$1,テナント数!$B$7:AL$73,AL$4+1,FALSE)) -> 603 | AM11: =IF(VLOOKUP($A$1,テナント数!$B$7:AP$73,AM$4+1,FALSE)="","",VLOOKUP($A$1,テナント数!$B$7:AP$73,AM$4+1,FALSE)) -> 606 | AN11: =IF(VLOOKUP($A$1,テナント数!$B$7:AP$73,AN$4+1,FALSE)="","",VLOOKUP($A$1,テナント数!$B$7:AP$73,AN$4+1,FALSE)) -> 610 | AO11: =IF(VLOOKUP($A$1,テナント数!$B$7:AP$73,AO$4+1,FALSE)="","",VLOOKUP($A$1,テナント数!$B$7:AP$73,AO$4+1,FALSE)) -> 598 | AP11: =IF(VLOOKUP($A$1,テナント数!$B$7:AQ$73,AP$4+1,FALSE)="","",VLOOKUP($A$1,テナント数!$B$7:AQ$73,AP$4+1,FALSE)) -> 598
A12: 期末稼働率 | B12: （％） | C12: =IF(VLOOKUP($A$1,期末稼働率!$B$7:$AA$73,C$4+1,FALSE)="","",VLOOKUP($A$1,期末稼働率!$B$7:$AA$73,C$4+1,FALSE)) -> 98.5 | D12: =IF(VLOOKUP($A$1,期末稼働率!$B$7:$AA$73,D$4+1,FALSE)="","",VLOOKUP($A$1,期末稼働率!$B$7:$AA$73,D$4+1,FALSE)) -> 98.2 | E12: =IF(VLOOKUP($A$1,期末稼働率!$B$7:$AA$73,E$4+1,FALSE)="","",VLOOKUP($A$1,期末稼働率!$B$7:$AA$73,E$4+1,FALSE)) -> 95.3 | F12: =IF(VLOOKUP($A$1,期末稼働率!$B$7:$AA$73,F$4+1,FALSE)="","",VLOOKUP($A$1,期末稼働率!$B$7:$AA$73,F$4+1,FALSE)) -> 95.1 | G12: =IF(VLOOKUP($A$1,期末稼働率!$B$7:$AA$73,G$4+1,FALSE)="","",VLOOKUP($A$1,期末稼働率!$B$7:$AA$73,G$4+1,FALSE)) -> 95.2 | H12: =IF(VLOOKUP($A$1,期末稼働率!$B$7:$AA$73,H$4+1,FALSE)="","",VLOOKUP($A$1,期末稼働率!$B$7:$AA$73,H$4+1,FALSE)) -> 98.5 | I12: =IF(VLOOKUP($A$1,期末稼働率!$B$7:$AA$73,I$4+1,FALSE)="","",VLOOKUP($A$1,期末稼働率!$B$7:$AA$73,I$4+1,FALSE)) -> 97 | J12: =IF(VLOOKUP($A$1,期末稼働率!$B$7:$AA$73,J$4+1,FALSE)="","",VLOOKUP($A$1,期末稼働率!$B$7:$AA$73,J$4+1,FALSE)) -> 97.4 | ... AA12: =IF(VLOOKUP($A$1,期末稼働率!$B$7:$AA$73,AA$4+1,FALSE)="","",VLOOKUP($A$1,期末稼働率!$B$7:$AA$73,AA$4+1,FALSE)) -> 99.6 | AB12: =IF(VLOOKUP($A$1,期末稼働率!$B$7:AB$73,AB$4+1,FALSE)="","",VLOOKUP($A$1,期末稼働率!$B$7:AB$73,AB$4+1,FALSE)) -> 99.4 | AC12: =IF(VLOOKUP($A$1,期末稼働率!$B$7:AC$73,AC$4+1,FALSE)="","",VLOOKUP($A$1,期末稼働率!$B$7:AC$73,AC$4+1,FALSE)) -> 99.6 | AD12: =IF(VLOOKUP($A$1,期末稼働率!$B$7:AD$73,AD$4+1,FALSE)="","",VLOOKUP($A$1,期末稼働率!$B$7:AD$73,AD$4+1,FALSE)) -> 99.6 | AE12: =IF(VLOOKUP($A$1,期末稼働率!$B$7:AE$73,AE$4+1,FALSE)="","",VLOOKUP($A$1,期末稼働率!$B$7:AE$73,AE$4+1,FALSE)) -> 98 | AF12: =IF(VLOOKUP($A$1,期末稼働率!$B$7:AF$73,AF$4+1,FALSE)="","",VLOOKUP($A$1,期末稼働率!$B$7:AF$73,AF$4+1,FALSE)) -> 96.4 | AG12: =IF(VLOOKUP($A$1,期末稼働率!$B$7:AG$73,AG$4+1,FALSE)="","",VLOOKUP($A$1,期末稼働率!$B$7:AG$73,AG$4+1,FALSE)) -> 93.1 | AH12: =IF(VLOOKUP($A$1,期末稼働率!$B$7:AH$73,AH$4+1,FALSE)="","",VLOOKUP($A$1,期末稼働率!$B$7:AH$73,AH$4+1,FALSE)) -> 90.8 | AI12: =IF(VLOOKUP($A$1,期末稼働率!$B$7:AI$73,AI$4+1,FALSE)="","",VLOOKUP($A$1,期末稼働率!$B$7:AI$73,AI$4+1,FALSE)) -> 93 | ... AL12: =IF(VLOOKUP($A$1,期末稼働率!$B$7:AL$73,AL$4+1,FALSE)="","",VLOOKUP($A$1,期末稼働率!$B$7:AL$73,AL$4+1,FALSE)) -> 98.4 | AM12: =IF(VLOOKUP($A$1,期末稼働率!$B$7:AP$73,AM$4+1,FALSE)="","",VLOOKUP($A$1,期末稼働率!$B$7:AP$73,AM$4+1,FALSE)) -> 99 | AN12: =IF(VLOOKUP($A$1,期末稼働率!$B$7:AP$73,AN$4+1,FALSE)="","",VLOOKUP($A$1,期末稼働率!$B$7:AP$73,AN$4+1,FALSE)) -> 98.9 | AO12: =IF(VLOOKUP($A$1,期末稼働率!$B$7:AP$73,AO$4+1,FALSE)="","",VLOOKUP($A$1,期末稼働率!$B$7:AP$73,AO$4+1,FALSE)) -> 98.3 | AP12: =IF(VLOOKUP($A$1,期末稼働率!$B$7:AQ$73,AP$4+1,FALSE)="","",VLOOKUP($A$1,期末稼働率!$B$7:AQ$73,AP$4+1,FALSE)) -> 98.1
A13: 不動産賃貸事業収益 | B13: （百万円） | C13: =IF(VLOOKUP($A$1,不動産賃貸事業収益!$B$7:$AA$73,C$4+1,FALSE)="","",VLOOKUP($A$1,不動産賃貸事業収益!$B$7:$AA$73,C$4+1,FALSE)) -> 4751 | D13: =IF(VLOOKUP($A$1,不動産賃貸事業収益!$B$7:$AA$73,D$4+1,FALSE)="","",VLOOKUP($A$1,不動産賃貸事業収益!$B$7:$AA$73,D$4+1,FALSE)) -> 5505 | E13: =IF(VLOOKUP($A$1,不動産賃貸事業収益!$B$7:$AA$73,E$4+1,FALSE)="","",VLOOKUP($A$1,不動産賃貸事業収益!$B$7:$AA$73,E$4+1,FALSE)) -> 6982 | F13: =IF(VLOOKUP($A$1,不動産賃貸事業収益!$B$7:$AA$73,F$4+1,FALSE)="","",VLOOKUP($A$1,不動産賃貸事業収益!$B$7:$AA$73,F$4+1,FALSE)) -> 7840 | G13: =IF(VLOOKUP($A$1,不動産賃貸事業収益!$B$7:$AA$73,G$4+1,FALSE)="","",VLOOKUP($A$1,不動産賃貸事業収益!$B$7:$AA$73,G$4+1,FALSE)) -> 7647 | H13: =IF(VLOOKUP($A$1,不動産賃貸事業収益!$B$7:$AA$73,H$4+1,FALSE)="","",VLOOKUP($A$1,不動産賃貸事業収益!$B$7:$AA$73,H$4+1,FALSE)) -> 7544 | I13: =IF(VLOOKUP($A$1,不動産賃貸事業収益!$B$7:$AA$73,I$4+1,FALSE)="","",VLOOKUP($A$1,不動産賃貸事業収益!$B$7:$AA$73,I$4+1,FALSE)) -> 7494 | J13: =IF(VLOOKUP($A$1,不動産賃貸事業収益!$B$7:$AA$73,J$4+1,FALSE)="","",VLOOKUP($A$1,不動産賃貸事業収益!$B$7:$AA$73,J$4+1,FALSE)) -> 7302 | ... AA13: =IF(VLOOKUP($A$1,不動産賃貸事業収益!$B$7:$AA$73,AA$4+1,FALSE)="","",VLOOKUP($A$1,不動産賃貸事業収益!$B$7:$AA$73,AA$4+1,FALSE)) -> 10657 | AB13: =IF(VLOOKUP($A$1,不動産賃貸事業収益!$B$7:AB$73,AB$4+1,FALSE)="","",VLOOKUP($A$1,不動産賃貸事業収益!$B$7:AB$73,AB$4+1,FALSE)) -> 10668 | AC13: =IF(VLOOKUP($A$1,不動産賃貸事業収益!$B$7:AC$73,AC$4+1,FALSE)="","",VLOOKUP($A$1,不動産賃貸事業収益!$B$7:AC$73,AC$4+1,FALSE)) -> 10890 | AD13: =IF(VLOOKUP($A$1,不動産賃貸事業収益!$B$7:AD$73,AD$4+1,FALSE)="","",VLOOKUP($A$1,不動産賃貸事業収益!$B$7:AD$73,AD$4+1,FALSE)) -> 11013 | AE13: =IF(VLOOKUP($A$1,不動産賃貸事業収益!$B$7:AE$73,AE$4+1,FALSE)="","",VLOOKUP($A$1,不動産賃貸事業収益!$B$7:AE$73,AE$4+1,FALSE)) -> 10729 | AF13: =IF(VLOOKUP($A$1,不動産賃貸事業収益!$B$7:AF$73,AF$4+1,FALSE)="","",VLOOKUP($A$1,不動産賃貸事業収益!$B$7:AF$73,AF$4+1,FALSE)) -> 10567 | AG13: =IF(VLOOKUP($A$1,不動産賃貸事業収益!$B$7:AG$73,AG$4+1,FALSE)="","",VLOOKUP($A$1,不動産賃貸事業収益!$B$7:AG$73,AG$4+1,FALSE)) -> 10666 | AH13: =IF(VLOOKUP($A$1,不動産賃貸事業収益!$B$7:AH$73,AH$4+1,FALSE)="","",VLOOKUP($A$1,不動産賃貸事業収益!$B$7:AH$73,AH$4+1,FALSE)) -> 10267 | AI13: =IF(VLOOKUP($A$1,不動産賃貸事業収益!$B$7:AI$73,AI$4+1,FALSE)="","",VLOOKUP($A$1,不動産賃貸事業収益!$B$7:AI$73,AI$4+1,FALSE)) -> 10141 | ... AL13: =IF(VLOOKUP($A$1,不動産賃貸事業収益!$B$7:AL$73,AL$4+1,FALSE)="","",VLOOKUP($A$1,不動産賃貸事業収益!$B$7:AL$73,AL$4+1,FALSE)) -> 10662 | AM13: =IF(VLOOKUP($A$1,不動産賃貸事業収益!$B$7:AP$73,AM$4+1,FALSE)="","",VLOOKUP($A$1,不動産賃貸事業収益!$B$7:AP$73,AM$4+1,FALSE)) -> 10981 | AN13: =IF(VLOOKUP($A$1,不動産賃貸事業収益!$B$7:AP$73,AN$4+1,FALSE)="","",VLOOKUP($A$1,不動産賃貸事業収益!$B$7:AP$73,AN$4+1,FALSE)) -> 10466 | AO13: =IF(VLOOKUP($A$1,不動産賃貸事業収益!$B$7:AP$73,AO$4+1,FALSE)="","",VLOOKUP($A$1,不動産賃貸事業収益!$B$7:AP$73,AO$4+1,FALSE)) -> 11115 | AP13: =IF(VLOOKUP($A$1,不動産賃貸事業収益!$B$7:AQ$73,AP$4+1,FALSE)="","",VLOOKUP($A$1,不動産賃貸事業収益!$B$7:AQ$73,AP$4+1,FALSE)) -> 10920
A14: 賃貸事業収入 | B14: （百万円） | C14: =IF(VLOOKUP($A$1,賃貸事業収入!$B$7:$AA$73,C$4+1,FALSE)="","",VLOOKUP($A$1,賃貸事業収入!$B$7:$AA$73,C$4+1,FALSE)) -> 4335 | D14: =IF(VLOOKUP($A$1,賃貸事業収入!$B$7:$AA$73,D$4+1,FALSE)="","",VLOOKUP($A$1,賃貸事業収入!$B$7:$AA$73,D$4+1,FALSE)) -> 5069 | E14: =IF(VLOOKUP($A$1,賃貸事業収入!$B$7:$AA$73,E$4+1,FALSE)="","",VLOOKUP($A$1,賃貸事業収入!$B$7:$AA$73,E$4+1,FALSE)) -> 6335 | F14: =IF(VLOOKUP($A$1,賃貸事業収入!$B$7:$AA$73,F$4+1,FALSE)="","",VLOOKUP($A$1,賃貸事業収入!$B$7:$AA$73,F$4+1,FALSE)) -> 7135 | G14: =IF(VLOOKUP($A$1,賃貸事業収入!$B$7:$AA$73,G$4+1,FALSE)="","",VLOOKUP($A$1,賃貸事業収入!$B$7:$AA$73,G$4+1,FALSE)) -> 6909 | H14: =IF(VLOOKUP($A$1,賃貸事業収入!$B$7:$AA$73,H$4+1,FALSE)="","",VLOOKUP($A$1,賃貸事業収入!$B$7:$AA$73,H$4+1,FALSE)) -> 6890 | I14: =IF(VLOOKUP($A$1,賃貸事業収入!$B$7:$AA$73,I$4+1,FALSE)="","",VLOOKUP($A$1,賃貸事業収入!$B$7:$AA$73,I$4+1,FALSE)) -> 6886 | J14: =IF(VLOOKUP($A$1,賃貸事業収入!$B$7:$AA$73,J$4+1,FALSE)="","",VLOOKUP($A$1,賃貸事業収入!$B$7:$AA$73,J$4+1,FALSE)) -> 6746 | ... AA14: =IF(VLOOKUP($A$1,賃貸事業収入!$B$7:$AA$73,AA$4+1,FALSE)="","",VLOOKUP($A$1,賃貸事業収入!$B$7:$AA$73,AA$4+1,FALSE)) -> 9779 | AB14: =IF(VLOOKUP($A$1,賃貸事業収入!$B$7:AB$73,AB$4+1,FALSE)="","",VLOOKUP($A$1,賃貸事業収入!$B$7:AB$73,AB$4+1,FALSE)) -> 9850 | AC14: =IF(VLOOKUP($A$1,賃貸事業収入!$B$7:AC$73,AC$4+1,FALSE)="","",VLOOKUP($A$1,賃貸事業収入!$B$7:AC$73,AC$4+1,FALSE)) -> 9984 | AD14: =IF(VLOOKUP($A$1,賃貸事業収入!$B$7:AD$73,AD$4+1,FALSE)="","",VLOOKUP($A$1,賃貸事業収入!$B$7:AD$73,AD$4+1,FALSE)) -> 10250 | AE14: =IF(VLOOKUP($A$1,賃貸事業収入!$B$7:AE$73,AE$4+1,FALSE)="","",VLOOKUP($A$1,賃貸事業収入!$B$7:AE$73,AE$4+1,FALSE)) -> 9998 | AF14: =IF(VLOOKUP($A$1,賃貸事業収入!$B$7:AF$73,AF$4+1,FALSE)="","",VLOOKUP($A$1,賃貸事業収入!$B$7:AF$73,AF$4+1,FALSE)) -> 9845 | AG14: =IF(VLOOKUP($A$1,賃貸事業収入!$B$7:AG$73,AG$4+1,FALSE)="","",VLOOKUP($A$1,賃貸事業収入!$B$7:AG$73,AG$4+1,FALSE)) -> 9883 | AH14: =IF(VLOOKUP($A$1,賃貸事業収入!$B$7:AH$73,AH$4+1,FALSE)="","",VLOOKUP($A$1,賃貸事業収入!$B$7:AH$73,AH$4+1,FALSE)) -> 9566 | AI14: =IF(VLOOKUP($A$1,賃貸事業収入!$B$7:AI$73,AI$4+1,FALSE)="","",VLOOKUP($A$1,賃貸事業収入!$B$7:AI$73,AI$4+1,FALSE)) -> 9271 | ... AL14: =IF(VLOOKUP($A$1,賃貸事業収入!$B$7:AL$73,AL$4+1,FALSE)="","",VLOOKUP($A$1,賃貸事業収入!$B$7:AL$73,AL$4+1,FALSE)) -> 9912 | AM14: =IF(VLOOKUP($A$1,賃貸事業収入!$B$7:AP$73,AM$4+1,FALSE)="","",VLOOKUP($A$1,賃貸事業収入!$B$7:AP$73,AM$4+1,FALSE)) -> 10012 | AN14: =IF(VLOOKUP($A$1,賃貸事業収入!$B$7:AP$73,AN$4+1,FALSE)="","",VLOOKUP($A$1,賃貸事業収入!$B$7:AP$73,AN$4+1,FALSE)) -> 9679 | AO14: =IF(VLOOKUP($A$1,賃貸事業収入!$B$7:AP$73,AO$4+1,FALSE)="","",VLOOKUP($A$1,賃貸事業収入!$B$7:AP$73,AO$4+1,FALSE)) -> 10096 | AP14: =IF(VLOOKUP($A$1,賃貸事業収入!$B$7:AQ$73,AP$4+1,FALSE)="","",VLOOKUP($A$1,賃貸事業収入!$B$7:AQ$73,AP$4+1,FALSE)) -> 10131
A15: その他賃貸事業収入 | B15: （百万円） | C15: =IF(VLOOKUP($A$1,その他賃貸事業収入!$B$7:$AA$73,C$4+1,FALSE)="","",VLOOKUP($A$1,その他賃貸事業収入!$B$7:$AA$73,C$4+1,FALSE)) -> 416 | D15: =IF(VLOOKUP($A$1,その他賃貸事業収入!$B$7:$AA$73,D$4+1,FALSE)="","",VLOOKUP($A$1,その他賃貸事業収入!$B$7:$AA$73,D$4+1,FALSE)) -> 436 | E15: =IF(VLOOKUP($A$1,その他賃貸事業収入!$B$7:$AA$73,E$4+1,FALSE)="","",VLOOKUP($A$1,その他賃貸事業収入!$B$7:$AA$73,E$4+1,FALSE)) -> 647 | F15: =IF(VLOOKUP($A$1,その他賃貸事業収入!$B$7:$AA$73,F$4+1,FALSE)="","",VLOOKUP($A$1,その他賃貸事業収入!$B$7:$AA$73,F$4+1,FALSE)) -> 704 | G15: =IF(VLOOKUP($A$1,その他賃貸事業収入!$B$7:$AA$73,G$4+1,FALSE)="","",VLOOKUP($A$1,その他賃貸事業収入!$B$7:$AA$73,G$4+1,FALSE)) -> 738 | H15: =IF(VLOOKUP($A$1,その他賃貸事業収入!$B$7:$AA$73,H$4+1,FALSE)="","",VLOOKUP($A$1,その他賃貸事業収入!$B$7:$AA$73,H$4+1,FALSE)) -> 654 | I15: =IF(VLOOKUP($A$1,その他賃貸事業収入!$B$7:$AA$73,I$4+1,FALSE)="","",VLOOKUP($A$1,その他賃貸事業収入!$B$7:$AA$73,I$4+1,FALSE)) -> 608 | J15: =IF(VLOOKUP($A$1,その他賃貸事業収入!$B$7:$AA$73,J$4+1,FALSE)="","",VLOOKUP($A$1,その他賃貸事業収入!$B$7:$AA$73,J$4+1,FALSE)) -> 556 | ... AA15: =IF(VLOOKUP($A$1,その他賃貸事業収入!$B$7:$AA$73,AA$4+1,FALSE)="","",VLOOKUP($A$1,その他賃貸事業収入!$B$7:$AA$73,AA$4+1,FALSE)) -> 877 | AB15: =IF(VLOOKUP($A$1,その他賃貸事業収入!$B$7:AB$73,AB$4+1,FALSE)="","",VLOOKUP($A$1,その他賃貸事業収入!$B$7:AB$73,AB$4+1,FALSE)) -> 818 | AC15: =IF(VLOOKUP($A$1,その他賃貸事業収入!$B$7:AC$73,AC$4+1,FALSE)="","",VLOOKUP($A$1,その他賃貸事業収入!$B$7:AC$73,AC$4+1,FALSE)) -> 906 | AD15: =IF(VLOOKUP($A$1,その他賃貸事業収入!$B$7:AD$73,AD$4+1,FALSE)="","",VLOOKUP($A$1,その他賃貸事業収入!$B$7:AD$73,AD$4+1,FALSE)) -> 763 | AE15: =IF(VLOOKUP($A$1,その他賃貸事業収入!$B$7:AE$73,AE$4+1,FALSE)="","",VLOOKUP($A$1,その他賃貸事業収入!$B$7:AE$73,AE$4+1,FALSE)) -> 730 | AF15: =IF(VLOOKUP($A$1,その他賃貸事業収入!$B$7:AF$73,AF$4+1,FALSE)="","",VLOOKUP($A$1,その他賃貸事業収入!$B$7:AF$73,AF$4+1,FALSE)) -> 722 | AG15: =IF(VLOOKUP($A$1,その他賃貸事業収入!$B$7:AG$73,AG$4+1,FALSE)="","",VLOOKUP($A$1,その他賃貸事業収入!$B$7:AG$73,AG$4+1,FALSE)) -> 782 | AH15: =IF(VLOOKUP($A$1,その他賃貸事業収入!$B$7:AH$73,AH$4+1,FALSE)="","",VLOOKUP($A$1,その他賃貸事業収入!$B$7:AH$73,AH$4+1,FALSE)) -> 700 | AI15: =IF(VLOOKUP($A$1,その他賃貸事業収入!$B$7:AI$73,AI$4+1,FALSE)="","",VLOOKUP($A$1,その他賃貸事業収入!$B$7:AI$73,AI$4+1,FALSE)) -> 869 | ... AL15: =IF(VLOOKUP($A$1,その他賃貸事業収入!$B$7:AL$73,AL$4+1,FALSE)="","",VLOOKUP($A$1,その他賃貸事業収入!$B$7:AL$73,AL$4+1,FALSE)) -> 749 | AM15: =IF(VLOOKUP($A$1,その他賃貸事業収入!$B$7:AP$73,AM$4+1,FALSE)="","",VLOOKUP($A$1,その他賃貸事業収入!$B$7:AP$73,AM$4+1,FALSE)) -> 969 | AN15: =IF(VLOOKUP($A$1,その他賃貸事業収入!$B$7:AP$73,AN$4+1,FALSE)="","",VLOOKUP($A$1,その他賃貸事業収入!$B$7:AP$73,AN$4+1,FALSE)) -> 786 | AO15: =IF(VLOOKUP($A$1,その他賃貸事業収入!$B$7:AP$73,AO$4+1,FALSE)="","",VLOOKUP($A$1,その他賃貸事業収入!$B$7:AP$73,AO$4+1,FALSE)) -> 1018 | AP15: =IF(VLOOKUP($A$1,その他賃貸事業収入!$B$7:AQ$73,AP$4+1,FALSE)="","",VLOOKUP($A$1,その他賃貸事業収入!$B$7:AQ$73,AP$4+1,FALSE)) -> 789
A16: 不動産賃貸事業費用 | B16: （百万円） | C16: =IF(VLOOKUP($A$1,不動産賃貸事業費用!$B$7:$AA$73,C$4+1,FALSE)="","",VLOOKUP($A$1,不動産賃貸事業費用!$B$7:$AA$73,C$4+1,FALSE)) -> 1977 | D16: =IF(VLOOKUP($A$1,不動産賃貸事業費用!$B$7:$AA$73,D$4+1,FALSE)="","",VLOOKUP($A$1,不動産賃貸事業費用!$B$7:$AA$73,D$4+1,FALSE)) -> 2409 | E16: =IF(VLOOKUP($A$1,不動産賃貸事業費用!$B$7:$AA$73,E$4+1,FALSE)="","",VLOOKUP($A$1,不動産賃貸事業費用!$B$7:$AA$73,E$4+1,FALSE)) -> 3437 | F16: =IF(VLOOKUP($A$1,不動産賃貸事業費用!$B$7:$AA$73,F$4+1,FALSE)="","",VLOOKUP($A$1,不動産賃貸事業費用!$B$7:$AA$73,F$4+1,FALSE)) -> 3849 | G16: =IF(VLOOKUP($A$1,不動産賃貸事業費用!$B$7:$AA$73,G$4+1,FALSE)="","",VLOOKUP($A$1,不動産賃貸事業費用!$B$7:$AA$73,G$4+1,FALSE)) -> 3910 | H16: =IF(VLOOKUP($A$1,不動産賃貸事業費用!$B$7:$AA$73,H$4+1,FALSE)="","",VLOOKUP($A$1,不動産賃貸事業費用!$B$7:$AA$73,H$4+1,FALSE)) -> 3720 | I16: =IF(VLOOKUP($A$1,不動産賃貸事業費用!$B$7:$AA$73,I$4+1,FALSE)="","",VLOOKUP($A$1,不動産賃貸事業費用!$B$7:$AA$73,I$4+1,FALSE)) -> 3577 | J16: =IF(VLOOKUP($A$1,不動産賃貸事業費用!$B$7:$AA$73,J$4+1,FALSE)="","",VLOOKUP($A$1,不動産賃貸事業費用!$B$7:$AA$73,J$4+1,FALSE)) -> 3516 | ... AA16: =IF(VLOOKUP($A$1,不動産賃貸事業費用!$B$7:$AA$73,AA$4+1,FALSE)="","",VLOOKUP($A$1,不動産賃貸事業費用!$B$7:$AA$73,AA$4+1,FALSE)) -> 5780 | AB16: =IF(VLOOKUP($A$1,不動産賃貸事業費用!$B$7:AB$73,AB$4+1,FALSE)="","",VLOOKUP($A$1,不動産賃貸事業費用!$B$7:AB$73,AB$4+1,FALSE)) -> 5747 | AC16: =IF(VLOOKUP($A$1,不動産賃貸事業費用!$B$7:AC$73,AC$4+1,FALSE)="","",VLOOKUP($A$1,不動産賃貸事業費用!$B$7:AC$73,AC$4+1,FALSE)) -> 5906 | AD16: =IF(VLOOKUP($A$1,不動産賃貸事業費用!$B$7:AD$73,AD$4+1,FALSE)="","",VLOOKUP($A$1,不動産賃貸事業費用!$B$7:AD$73,AD$4+1,FALSE)) -> 5697 | AE16: =IF(VLOOKUP($A$1,不動産賃貸事業費用!$B$7:AE$73,AE$4+1,FALSE)="","",VLOOKUP($A$1,不動産賃貸事業費用!$B$7:AE$73,AE$4+1,FALSE)) -> 5487 | AF16: =IF(VLOOKUP($A$1,不動産賃貸事業費用!$B$7:AF$73,AF$4+1,FALSE)="","",VLOOKUP($A$1,不動産賃貸事業費用!$B$7:AF$73,AF$4+1,FALSE)) -> 5355 | AG16: =IF(VLOOKUP($A$1,不動産賃貸事業費用!$B$7:AG$73,AG$4+1,FALSE)="","",VLOOKUP($A$1,不動産賃貸事業費用!$B$7:AG$73,AG$4+1,FALSE)) -> 5563 | AH16: =IF(VLOOKUP($A$1,不動産賃貸事業費用!$B$7:AH$73,AH$4+1,FALSE)="","",VLOOKUP($A$1,不動産賃貸事業費用!$B$7:AH$73,AH$4+1,FALSE)) -> 5699 | AI16: =IF(VLOOKUP($A$1,不動産賃貸事業費用!$B$7:AI$73,AI$4+1,FALSE)="","",VLOOKUP($A$1,不動産賃貸事業費用!$B$7:AI$73,AI$4+1,FALSE)) -> 5944 | ... AL16: =IF(VLOOKUP($A$1,不動産賃貸事業費用!$B$7:AL$73,AL$4+1,FALSE)="","",VLOOKUP($A$1,不動産賃貸事業費用!$B$7:AL$73,AL$4+1,FALSE)) -> 5979 | AM16: =IF(VLOOKUP($A$1,不動産賃貸事業費用!$B$7:AP$73,AM$4+1,FALSE)="","",VLOOKUP($A$1,不動産賃貸事業費用!$B$7:AP$73,AM$4+1,FALSE)) -> 6007 | AN16: =IF(VLOOKUP($A$1,不動産賃貸事業費用!$B$7:AP$73,AN$4+1,FALSE)="","",VLOOKUP($A$1,不動産賃貸事業費用!$B$7:AP$73,AN$4+1,FALSE)) -> 5557 | AO16: =IF(VLOOKUP($A$1,不動産賃貸事業費用!$B$7:AP$73,AO$4+1,FALSE)="","",VLOOKUP($A$1,不動産賃貸事業費用!$B$7:AP$73,AO$4+1,FALSE)) -> 5799 | AP16: =IF(VLOOKUP($A$1,不動産賃貸事業費用!$B$7:AQ$73,AP$4+1,FALSE)="","",VLOOKUP($A$1,不動産賃貸事業費用!$B$7:AQ$73,AP$4+1,FALSE)) -> 5681
A17: 維持管理費 | B17: （百万円） | C17: =IF(VLOOKUP($A$1,維持管理費!$B$7:$AA$73,C$4+1,FALSE)="","",VLOOKUP($A$1,維持管理費!$B$7:$AA$73,C$4+1,FALSE)) -> 712 | D17: =IF(VLOOKUP($A$1,維持管理費!$B$7:$AA$73,D$4+1,FALSE)="","",VLOOKUP($A$1,維持管理費!$B$7:$AA$73,D$4+1,FALSE)) -> 859 | E17: =IF(VLOOKUP($A$1,維持管理費!$B$7:$AA$73,E$4+1,FALSE)="","",VLOOKUP($A$1,維持管理費!$B$7:$AA$73,E$4+1,FALSE)) -> 1083 | F17: =IF(VLOOKUP($A$1,維持管理費!$B$7:$AA$73,F$4+1,FALSE)="","",VLOOKUP($A$1,維持管理費!$B$7:$AA$73,F$4+1,FALSE)) -> 1257 | G17: =IF(VLOOKUP($A$1,維持管理費!$B$7:$AA$73,G$4+1,FALSE)="","",VLOOKUP($A$1,維持管理費!$B$7:$AA$73,G$4+1,FALSE)) -> 1063 | H17: =IF(VLOOKUP($A$1,維持管理費!$B$7:$AA$73,H$4+1,FALSE)="","",VLOOKUP($A$1,維持管理費!$B$7:$AA$73,H$4+1,FALSE)) -> 1141 | I17: =IF(VLOOKUP($A$1,維持管理費!$B$7:$AA$73,I$4+1,FALSE)="","",VLOOKUP($A$1,維持管理費!$B$7:$AA$73,I$4+1,FALSE)) -> 1066 | J17: =IF(VLOOKUP($A$1,維持管理費!$B$7:$AA$73,J$4+1,FALSE)="","",VLOOKUP($A$1,維持管理費!$B$7:$AA$73,J$4+1,FALSE)) -> 1082 | ... AA17: =IF(VLOOKUP($A$1,維持管理費!$B$7:$AA$73,AA$4+1,FALSE)="","",VLOOKUP($A$1,維持管理費!$B$7:$AA$73,AA$4+1,FALSE)) -> 1358 | AB17: =IF(VLOOKUP($A$1,維持管理費!$B$7:AB$73,AB$4+1,FALSE)="","",VLOOKUP($A$1,維持管理費!$B$7:AB$73,AB$4+1,FALSE)) -> 1399 | AC17: =IF(VLOOKUP($A$1,維持管理費!$B$7:AC$73,AC$4+1,FALSE)="","",VLOOKUP($A$1,維持管理費!$B$7:AC$73,AC$4+1,FALSE)) -> 1458 | AD17: =IF(VLOOKUP($A$1,維持管理費!$B$7:AD$73,AD$4+1,FALSE)="","",VLOOKUP($A$1,維持管理費!$B$7:AD$73,AD$4+1,FALSE)) -> 1455 | AE17: =IF(VLOOKUP($A$1,維持管理費!$B$7:AE$73,AE$4+1,FALSE)="","",VLOOKUP($A$1,維持管理費!$B$7:AE$73,AE$4+1,FALSE)) -> 1371 | AF17: =IF(VLOOKUP($A$1,維持管理費!$B$7:AF$73,AF$4+1,FALSE)="","",VLOOKUP($A$1,維持管理費!$B$7:AF$73,AF$4+1,FALSE)) -> 1393 | AG17: =IF(VLOOKUP($A$1,維持管理費!$B$7:AG$73,AG$4+1,FALSE)="","",VLOOKUP($A$1,維持管理費!$B$7:AG$73,AG$4+1,FALSE)) -> 1553 | AH17: =IF(VLOOKUP($A$1,維持管理費!$B$7:AH$73,AH$4+1,FALSE)="","",VLOOKUP($A$1,維持管理費!$B$7:AH$73,AH$4+1,FALSE)) -> 1566 | AI17: =IF(VLOOKUP($A$1,維持管理費!$B$7:AI$73,AI$4+1,FALSE)="","",VLOOKUP($A$1,維持管理費!$B$7:AI$73,AI$4+1,FALSE)) -> 1580 | ... AL17: =IF(VLOOKUP($A$1,維持管理費!$B$7:AL$73,AL$4+1,FALSE)="","",VLOOKUP($A$1,維持管理費!$B$7:AL$73,AL$4+1,FALSE)) -> 1572 | AM17: =IF(VLOOKUP($A$1,維持管理費!$B$7:AP$73,AM$4+1,FALSE)="","",VLOOKUP($A$1,維持管理費!$B$7:AP$73,AM$4+1,FALSE)) -> 1525 | AN17: =IF(VLOOKUP($A$1,維持管理費!$B$7:AP$73,AN$4+1,FALSE)="","",VLOOKUP($A$1,維持管理費!$B$7:AP$73,AN$4+1,FALSE)) -> 1489 | AO17: =IF(VLOOKUP($A$1,維持管理費!$B$7:AP$73,AO$4+1,FALSE)="","",VLOOKUP($A$1,維持管理費!$B$7:AP$73,AO$4+1,FALSE)) -> 1579 | AP17: =IF(VLOOKUP($A$1,維持管理費!$B$7:AQ$73,AP$4+1,FALSE)="","",VLOOKUP($A$1,維持管理費!$B$7:AQ$73,AP$4+1,FALSE)) -> 1617
A18: 水道光熱費 | B18: （百万円） | C18: =IF(VLOOKUP($A$1,水道光熱費!$B$7:$AA$73,C$4+1,FALSE)="","",VLOOKUP($A$1,水道光熱費!$B$7:$AA$73,C$4+1,FALSE)) -> 406 | D18: =IF(VLOOKUP($A$1,水道光熱費!$B$7:$AA$73,D$4+1,FALSE)="","",VLOOKUP($A$1,水道光熱費!$B$7:$AA$73,D$4+1,FALSE)) -> 452 | E18: =IF(VLOOKUP($A$1,水道光熱費!$B$7:$AA$73,E$4+1,FALSE)="","",VLOOKUP($A$1,水道光熱費!$B$7:$AA$73,E$4+1,FALSE)) -> 613 | F18: =IF(VLOOKUP($A$1,水道光熱費!$B$7:$AA$73,F$4+1,FALSE)="","",VLOOKUP($A$1,水道光熱費!$B$7:$AA$73,F$4+1,FALSE)) -> 672 | G18: =IF(VLOOKUP($A$1,水道光熱費!$B$7:$AA$73,G$4+1,FALSE)="","",VLOOKUP($A$1,水道光熱費!$B$7:$AA$73,G$4+1,FALSE)) -> 759 | H18: =IF(VLOOKUP($A$1,水道光熱費!$B$7:$AA$73,H$4+1,FALSE)="","",VLOOKUP($A$1,水道光熱費!$B$7:$AA$73,H$4+1,FALSE)) -> 685 | I18: =IF(VLOOKUP($A$1,水道光熱費!$B$7:$AA$73,I$4+1,FALSE)="","",VLOOKUP($A$1,水道光熱費!$B$7:$AA$73,I$4+1,FALSE)) -> 648 | J18: =IF(VLOOKUP($A$1,水道光熱費!$B$7:$AA$73,J$4+1,FALSE)="","",VLOOKUP($A$1,水道光熱費!$B$7:$AA$73,J$4+1,FALSE)) -> 582 | ... AA18: =IF(VLOOKUP($A$1,水道光熱費!$B$7:$AA$73,AA$4+1,FALSE)="","",VLOOKUP($A$1,水道光熱費!$B$7:$AA$73,AA$4+1,FALSE)) -> 1029 | AB18: =IF(VLOOKUP($A$1,水道光熱費!$B$7:AB$73,AB$4+1,FALSE)="","",VLOOKUP($A$1,水道光熱費!$B$7:AB$73,AB$4+1,FALSE)) -> 959 | AC18: =IF(VLOOKUP($A$1,水道光熱費!$B$7:AC$73,AC$4+1,FALSE)="","",VLOOKUP($A$1,水道光熱費!$B$7:AC$73,AC$4+1,FALSE)) -> 1013 | AD18: =IF(VLOOKUP($A$1,水道光熱費!$B$7:AD$73,AD$4+1,FALSE)="","",VLOOKUP($A$1,水道光熱費!$B$7:AD$73,AD$4+1,FALSE)) -> 864 | AE18: =IF(VLOOKUP($A$1,水道光熱費!$B$7:AE$73,AE$4+1,FALSE)="","",VLOOKUP($A$1,水道光熱費!$B$7:AE$73,AE$4+1,FALSE)) -> 831 | AF18: =IF(VLOOKUP($A$1,水道光熱費!$B$7:AF$73,AF$4+1,FALSE)="","",VLOOKUP($A$1,水道光熱費!$B$7:AF$73,AF$4+1,FALSE)) -> 759 | AG18: =IF(VLOOKUP($A$1,水道光熱費!$B$7:AG$73,AG$4+1,FALSE)="","",VLOOKUP($A$1,水道光熱費!$B$7:AG$73,AG$4+1,FALSE)) -> 867 | AH18: =IF(VLOOKUP($A$1,水道光熱費!$B$7:AH$73,AH$4+1,FALSE)="","",VLOOKUP($A$1,水道光熱費!$B$7:AH$73,AH$4+1,FALSE)) -> 935 | AI18: =IF(VLOOKUP($A$1,水道光熱費!$B$7:AI$73,AI$4+1,FALSE)="","",VLOOKUP($A$1,水道光熱費!$B$7:AI$73,AI$4+1,FALSE)) -> 1156 | ... AL18: =IF(VLOOKUP($A$1,水道光熱費!$B$7:AL$73,AL$4+1,FALSE)="","",VLOOKUP($A$1,水道光熱費!$B$7:AL$73,AL$4+1,FALSE)) -> 990 | AM18: =IF(VLOOKUP($A$1,水道光熱費!$B$7:AP$73,AM$4+1,FALSE)="","",VLOOKUP($A$1,水道光熱費!$B$7:AP$73,AM$4+1,FALSE)) -> 1144 | AN18: =IF(VLOOKUP($A$1,水道光熱費!$B$7:AP$73,AN$4+1,FALSE)="","",VLOOKUP($A$1,水道光熱費!$B$7:AP$73,AN$4+1,FALSE)) -> 1006 | AO18: =IF(VLOOKUP($A$1,水道光熱費!$B$7:AP$73,AO$4+1,FALSE)="","",VLOOKUP($A$1,水道光熱費!$B$7:AP$73,AO$4+1,FALSE)) -> 1104 | AP18: =IF(VLOOKUP($A$1,水道光熱費!$B$7:AQ$73,AP$4+1,FALSE)="","",VLOOKUP($A$1,水道光熱費!$B$7:AQ$73,AP$4+1,FALSE)) -> 973
A19: 公租公課 | B19: （百万円） | C19: =IF(VLOOKUP($A$1,公租公課!$B$7:$AA$73,C$4+1,FALSE)="","",VLOOKUP($A$1,公租公課!$B$7:$AA$73,C$4+1,FALSE)) -> - | D19: =IF(VLOOKUP($A$1,公租公課!$B$7:$AA$73,D$4+1,FALSE)="","",VLOOKUP($A$1,公租公課!$B$7:$AA$73,D$4+1,FALSE)) -> 174 | E19: =IF(VLOOKUP($A$1,公租公課!$B$7:$AA$73,E$4+1,FALSE)="","",VLOOKUP($A$1,公租公課!$B$7:$AA$73,E$4+1,FALSE)) -> 330 | F19: =IF(VLOOKUP($A$1,公租公課!$B$7:$AA$73,F$4+1,FALSE)="","",VLOOKUP($A$1,公租公課!$B$7:$AA$73,F$4+1,FALSE)) -> 457 | G19: =IF(VLOOKUP($A$1,公租公課!$B$7:$AA$73,G$4+1,FALSE)="","",VLOOKUP($A$1,公租公課!$B$7:$AA$73,G$4+1,FALSE)) -> 560 | H19: =IF(VLOOKUP($A$1,公租公課!$B$7:$AA$73,H$4+1,FALSE)="","",VLOOKUP($A$1,公租公課!$B$7:$AA$73,H$4+1,FALSE)) -> 540 | I19: =IF(VLOOKUP($A$1,公租公課!$B$7:$AA$73,I$4+1,FALSE)="","",VLOOKUP($A$1,公租公課!$B$7:$AA$73,I$4+1,FALSE)) -> 542 | J19: =IF(VLOOKUP($A$1,公租公課!$B$7:$AA$73,J$4+1,FALSE)="","",VLOOKUP($A$1,公租公課!$B$7:$AA$73,J$4+1,FALSE)) -> 540 | ... AA19: =IF(VLOOKUP($A$1,公租公課!$B$7:$AA$73,AA$4+1,FALSE)="","",VLOOKUP($A$1,公租公課!$B$7:$AA$73,AA$4+1,FALSE)) -> 894 | AB19: =IF(VLOOKUP($A$1,公租公課!$B$7:AB$73,AB$4+1,FALSE)="","",VLOOKUP($A$1,公租公課!$B$7:AB$73,AB$4+1,FALSE)) -> 917 | AC19: =IF(VLOOKUP($A$1,公租公課!$B$7:AC$73,AC$4+1,FALSE)="","",VLOOKUP($A$1,公租公課!$B$7:AC$73,AC$4+1,FALSE)) -> 944 | AD19: =IF(VLOOKUP($A$1,公租公課!$B$7:AD$73,AD$4+1,FALSE)="","",VLOOKUP($A$1,公租公課!$B$7:AD$73,AD$4+1,FALSE)) -> 963 | AE19: =IF(VLOOKUP($A$1,公租公課!$B$7:AE$73,AE$4+1,FALSE)="","",VLOOKUP($A$1,公租公課!$B$7:AE$73,AE$4+1,FALSE)) -> 919 | AF19: =IF(VLOOKUP($A$1,公租公課!$B$7:AF$73,AF$4+1,FALSE)="","",VLOOKUP($A$1,公租公課!$B$7:AF$73,AF$4+1,FALSE)) -> 934 | AG19: =IF(VLOOKUP($A$1,公租公課!$B$7:AG$73,AG$4+1,FALSE)="","",VLOOKUP($A$1,公租公課!$B$7:AG$73,AG$4+1,FALSE)) -> 940 | AH19: =IF(VLOOKUP($A$1,公租公課!$B$7:AH$73,AH$4+1,FALSE)="","",VLOOKUP($A$1,公租公課!$B$7:AH$73,AH$4+1,FALSE)) -> 980 | AI19: =IF(VLOOKUP($A$1,公租公課!$B$7:AI$73,AI$4+1,FALSE)="","",VLOOKUP($A$1,公租公課!$B$7:AI$73,AI$4+1,FALSE)) -> 976 | ... AL19: =IF(VLOOKUP($A$1,公租公課!$B$7:AL$73,AL$4+1,FALSE)="","",VLOOKUP($A$1,公租公課!$B$7:AL$73,AL$4+1,FALSE)) -> 1012 | AM19: =IF(VLOOKUP($A$1,公租公課!$B$7:AP$73,AM$4+1,FALSE)="","",VLOOKUP($A$1,公租公課!$B$7:AP$73,AM$4+1,FALSE)) -> 1097 | AN19: =IF(VLOOKUP($A$1,公租公課!$B$7:AP$73,AN$4+1,FALSE)="","",VLOOKUP($A$1,公租公課!$B$7:AP$73,AN$4+1,FALSE)) -> 982 | AO19: =IF(VLOOKUP($A$1,公租公課!$B$7:AP$73,AO$4+1,FALSE)="","",VLOOKUP($A$1,公租公課!$B$7:AP$73,AO$4+1,FALSE)) -> 1009 | AP19: =IF(VLOOKUP($A$1,公租公課!$B$7:AQ$73,AP$4+1,FALSE)="","",VLOOKUP($A$1,公租公課!$B$7:AQ$73,AP$4+1,FALSE)) -> 1008
A20: 損害保険料 | B20: （百万円） | C20: =IF(VLOOKUP($A$1,損害保険料!$B$7:$AA$73,C$4+1,FALSE)="","",VLOOKUP($A$1,損害保険料!$B$7:$AA$73,C$4+1,FALSE)) -> 13 | D20: =IF(VLOOKUP($A$1,損害保険料!$B$7:$AA$73,D$4+1,FALSE)="","",VLOOKUP($A$1,損害保険料!$B$7:$AA$73,D$4+1,FALSE)) -> 19 | E20: =IF(VLOOKUP($A$1,損害保険料!$B$7:$AA$73,E$4+1,FALSE)="","",VLOOKUP($A$1,損害保険料!$B$7:$AA$73,E$4+1,FALSE)) -> 22 | F20: =IF(VLOOKUP($A$1,損害保険料!$B$7:$AA$73,F$4+1,FALSE)="","",VLOOKUP($A$1,損害保険料!$B$7:$AA$73,F$4+1,FALSE)) -> 23 | G20: =IF(VLOOKUP($A$1,損害保険料!$B$7:$AA$73,G$4+1,FALSE)="","",VLOOKUP($A$1,損害保険料!$B$7:$AA$73,G$4+1,FALSE)) -> 21 | H20: =IF(VLOOKUP($A$1,損害保険料!$B$7:$AA$73,H$4+1,FALSE)="","",VLOOKUP($A$1,損害保険料!$B$7:$AA$73,H$4+1,FALSE)) -> 21 | I20: =IF(VLOOKUP($A$1,損害保険料!$B$7:$AA$73,I$4+1,FALSE)="","",VLOOKUP($A$1,損害保険料!$B$7:$AA$73,I$4+1,FALSE)) -> 21 | J20: =IF(VLOOKUP($A$1,損害保険料!$B$7:$AA$73,J$4+1,FALSE)="","",VLOOKUP($A$1,損害保険料!$B$7:$AA$73,J$4+1,FALSE)) -> 21 | ... AA20: =IF(VLOOKUP($A$1,損害保険料!$B$7:$AA$73,AA$4+1,FALSE)="","",VLOOKUP($A$1,損害保険料!$B$7:$AA$73,AA$4+1,FALSE)) -> 24 | AB20: =IF(VLOOKUP($A$1,損害保険料!$B$7:AB$73,AB$4+1,FALSE)="","",VLOOKUP($A$1,損害保険料!$B$7:AB$73,AB$4+1,FALSE)) -> 22 | AC20: =IF(VLOOKUP($A$1,損害保険料!$B$7:AC$73,AC$4+1,FALSE)="","",VLOOKUP($A$1,損害保険料!$B$7:AC$73,AC$4+1,FALSE)) -> 20 | AD20: =IF(VLOOKUP($A$1,損害保険料!$B$7:AD$73,AD$4+1,FALSE)="","",VLOOKUP($A$1,損害保険料!$B$7:AD$73,AD$4+1,FALSE)) -> 22 | AE20: =IF(VLOOKUP($A$1,損害保険料!$B$7:AE$73,AE$4+1,FALSE)="","",VLOOKUP($A$1,損害保険料!$B$7:AE$73,AE$4+1,FALSE)) -> 20 | AF20: =IF(VLOOKUP($A$1,損害保険料!$B$7:AF$73,AF$4+1,FALSE)="","",VLOOKUP($A$1,損害保険料!$B$7:AF$73,AF$4+1,FALSE)) -> 20 | AG20: =IF(VLOOKUP($A$1,損害保険料!$B$7:AG$73,AG$4+1,FALSE)="","",VLOOKUP($A$1,損害保険料!$B$7:AG$73,AG$4+1,FALSE)) -> 21 | AH20: =IF(VLOOKUP($A$1,損害保険料!$B$7:AH$73,AH$4+1,FALSE)="","",VLOOKUP($A$1,損害保険料!$B$7:AH$73,AH$4+1,FALSE)) -> 21 | AI20: =IF(VLOOKUP($A$1,損害保険料!$B$7:AI$73,AI$4+1,FALSE)="","",VLOOKUP($A$1,損害保険料!$B$7:AI$73,AI$4+1,FALSE)) -> 22 | ... AL20: =IF(VLOOKUP($A$1,損害保険料!$B$7:AL$73,AL$4+1,FALSE)="","",VLOOKUP($A$1,損害保険料!$B$7:AL$73,AL$4+1,FALSE)) -> 24 | AM20: =IF(VLOOKUP($A$1,損害保険料!$B$7:AP$73,AM$4+1,FALSE)="","",VLOOKUP($A$1,損害保険料!$B$7:AP$73,AM$4+1,FALSE)) -> 28 | AN20: =IF(VLOOKUP($A$1,損害保険料!$B$7:AP$73,AN$4+1,FALSE)="","",VLOOKUP($A$1,損害保険料!$B$7:AP$73,AN$4+1,FALSE)) -> 25 | AO20: =IF(VLOOKUP($A$1,損害保険料!$B$7:AP$73,AO$4+1,FALSE)="","",VLOOKUP($A$1,損害保険料!$B$7:AP$73,AO$4+1,FALSE)) -> 25 | AP20: =IF(VLOOKUP($A$1,損害保険料!$B$7:AQ$73,AP$4+1,FALSE)="","",VLOOKUP($A$1,損害保険料!$B$7:AQ$73,AP$4+1,FALSE)) -> 25
A21: 修繕工事費 | B21: （百万円） | C21: =IF(VLOOKUP($A$1,修繕工事費!$B$7:$AA$73,C$4+1,FALSE)="","",VLOOKUP($A$1,修繕工事費!$B$7:$AA$73,C$4+1,FALSE)) -> 120 | D21: =IF(VLOOKUP($A$1,修繕工事費!$B$7:$AA$73,D$4+1,FALSE)="","",VLOOKUP($A$1,修繕工事費!$B$7:$AA$73,D$4+1,FALSE)) -> 124 | E21: =IF(VLOOKUP($A$1,修繕工事費!$B$7:$AA$73,E$4+1,FALSE)="","",VLOOKUP($A$1,修繕工事費!$B$7:$AA$73,E$4+1,FALSE)) -> 363 | F21: =IF(VLOOKUP($A$1,修繕工事費!$B$7:$AA$73,F$4+1,FALSE)="","",VLOOKUP($A$1,修繕工事費!$B$7:$AA$73,F$4+1,FALSE)) -> 217 | G21: =IF(VLOOKUP($A$1,修繕工事費!$B$7:$AA$73,G$4+1,FALSE)="","",VLOOKUP($A$1,修繕工事費!$B$7:$AA$73,G$4+1,FALSE)) -> 313 | H21: =IF(VLOOKUP($A$1,修繕工事費!$B$7:$AA$73,H$4+1,FALSE)="","",VLOOKUP($A$1,修繕工事費!$B$7:$AA$73,H$4+1,FALSE)) -> 182 | I21: =IF(VLOOKUP($A$1,修繕工事費!$B$7:$AA$73,I$4+1,FALSE)="","",VLOOKUP($A$1,修繕工事費!$B$7:$AA$73,I$4+1,FALSE)) -> 142 | J21: =IF(VLOOKUP($A$1,修繕工事費!$B$7:$AA$73,J$4+1,FALSE)="","",VLOOKUP($A$1,修繕工事費!$B$7:$AA$73,J$4+1,FALSE)) -> 130 | ... AA21: =IF(VLOOKUP($A$1,修繕工事費!$B$7:$AA$73,AA$4+1,FALSE)="","",VLOOKUP($A$1,修繕工事費!$B$7:$AA$73,AA$4+1,FALSE)) -> 314 | AB21: =IF(VLOOKUP($A$1,修繕工事費!$B$7:AB$73,AB$4+1,FALSE)="","",VLOOKUP($A$1,修繕工事費!$B$7:AB$73,AB$4+1,FALSE)) -> 285 | AC21: =IF(VLOOKUP($A$1,修繕工事費!$B$7:AC$73,AC$4+1,FALSE)="","",VLOOKUP($A$1,修繕工事費!$B$7:AC$73,AC$4+1,FALSE)) -> 311 | AD21: =IF(VLOOKUP($A$1,修繕工事費!$B$7:AD$73,AD$4+1,FALSE)="","",VLOOKUP($A$1,修繕工事費!$B$7:AD$73,AD$4+1,FALSE)) -> 214 | AE21: =IF(VLOOKUP($A$1,修繕工事費!$B$7:AE$73,AE$4+1,FALSE)="","",VLOOKUP($A$1,修繕工事費!$B$7:AE$73,AE$4+1,FALSE)) -> 282 | AF21: =IF(VLOOKUP($A$1,修繕工事費!$B$7:AF$73,AF$4+1,FALSE)="","",VLOOKUP($A$1,修繕工事費!$B$7:AF$73,AF$4+1,FALSE)) -> 158 | AG21: =IF(VLOOKUP($A$1,修繕工事費!$B$7:AG$73,AG$4+1,FALSE)="","",VLOOKUP($A$1,修繕工事費!$B$7:AG$73,AG$4+1,FALSE)) -> 160 | AH21: =IF(VLOOKUP($A$1,修繕工事費!$B$7:AH$73,AH$4+1,FALSE)="","",VLOOKUP($A$1,修繕工事費!$B$7:AH$73,AH$4+1,FALSE)) -> 126 | AI21: =IF(VLOOKUP($A$1,修繕工事費!$B$7:AI$73,AI$4+1,FALSE)="","",VLOOKUP($A$1,修繕工事費!$B$7:AI$73,AI$4+1,FALSE)) -> 137 | ... AL21: =IF(VLOOKUP($A$1,修繕工事費!$B$7:AL$73,AL$4+1,FALSE)="","",VLOOKUP($A$1,修繕工事費!$B$7:AL$73,AL$4+1,FALSE)) -> 387 | AM21: =IF(VLOOKUP($A$1,修繕工事費!$B$7:AP$73,AM$4+1,FALSE)="","",VLOOKUP($A$1,修繕工事費!$B$7:AP$73,AM$4+1,FALSE)) -> 194 | AN21: =IF(VLOOKUP($A$1,修繕工事費!$B$7:AP$73,AN$4+1,FALSE)="","",VLOOKUP($A$1,修繕工事費!$B$7:AP$73,AN$4+1,FALSE)) -> 169 | AO21: =IF(VLOOKUP($A$1,修繕工事費!$B$7:AP$73,AO$4+1,FALSE)="","",VLOOKUP($A$1,修繕工事費!$B$7:AP$73,AO$4+1,FALSE)) -> 165 | AP21: =IF(VLOOKUP($A$1,修繕工事費!$B$7:AQ$73,AP$4+1,FALSE)="","",VLOOKUP($A$1,修繕工事費!$B$7:AQ$73,AP$4+1,FALSE)) -> 138
A22: その他費用 | B22: （百万円） | C22: =IF(VLOOKUP($A$1,その他費用!$B$7:$AA$73,C$4+1,FALSE)="","",VLOOKUP($A$1,その他費用!$B$7:$AA$73,C$4+1,FALSE)) -> 93 | D22: =IF(VLOOKUP($A$1,その他費用!$B$7:$AA$73,D$4+1,FALSE)="","",VLOOKUP($A$1,その他費用!$B$7:$AA$73,D$4+1,FALSE)) -> 104 | E22: =IF(VLOOKUP($A$1,その他費用!$B$7:$AA$73,E$4+1,FALSE)="","",VLOOKUP($A$1,その他費用!$B$7:$AA$73,E$4+1,FALSE)) -> 131 | F22: =IF(VLOOKUP($A$1,その他費用!$B$7:$AA$73,F$4+1,FALSE)="","",VLOOKUP($A$1,その他費用!$B$7:$AA$73,F$4+1,FALSE)) -> 179 | G22: =IF(VLOOKUP($A$1,その他費用!$B$7:$AA$73,G$4+1,FALSE)="","",VLOOKUP($A$1,その他費用!$B$7:$AA$73,G$4+1,FALSE)) -> 196 | H22: =IF(VLOOKUP($A$1,その他費用!$B$7:$AA$73,H$4+1,FALSE)="","",VLOOKUP($A$1,その他費用!$B$7:$AA$73,H$4+1,FALSE)) -> 159 | I22: =IF(VLOOKUP($A$1,その他費用!$B$7:$AA$73,I$4+1,FALSE)="","",VLOOKUP($A$1,その他費用!$B$7:$AA$73,I$4+1,FALSE)) -> 165 | J22: =IF(VLOOKUP($A$1,その他費用!$B$7:$AA$73,J$4+1,FALSE)="","",VLOOKUP($A$1,その他費用!$B$7:$AA$73,J$4+1,FALSE)) -> 165 | ... AA22: =IF(VLOOKUP($A$1,その他費用!$B$7:$AA$73,AA$4+1,FALSE)="","",VLOOKUP($A$1,その他費用!$B$7:$AA$73,AA$4+1,FALSE)) -> 238 | AB22: =IF(VLOOKUP($A$1,その他費用!$B$7:AB$73,AB$4+1,FALSE)="","",VLOOKUP($A$1,その他費用!$B$7:AB$73,AB$4+1,FALSE)) -> 228 | AC22: =IF(VLOOKUP($A$1,その他費用!$B$7:AC$73,AC$4+1,FALSE)="","",VLOOKUP($A$1,その他費用!$B$7:AC$73,AC$4+1,FALSE)) -> 227 | AD22: =IF(VLOOKUP($A$1,その他費用!$B$7:AD$73,AD$4+1,FALSE)="","",VLOOKUP($A$1,その他費用!$B$7:AD$73,AD$4+1,FALSE)) -> 229 | AE22: =IF(VLOOKUP($A$1,その他費用!$B$7:AE$73,AE$4+1,FALSE)="","",VLOOKUP($A$1,その他費用!$B$7:AE$73,AE$4+1,FALSE)) -> 237 | AF22: =IF(VLOOKUP($A$1,その他費用!$B$7:AF$73,AF$4+1,FALSE)="","",VLOOKUP($A$1,その他費用!$B$7:AF$73,AF$4+1,FALSE)) -> 241 | AG22: =IF(VLOOKUP($A$1,その他費用!$B$7:AG$73,AG$4+1,FALSE)="","",VLOOKUP($A$1,その他費用!$B$7:AG$73,AG$4+1,FALSE)) -> 128 | AH22: =IF(VLOOKUP($A$1,その他費用!$B$7:AH$73,AH$4+1,FALSE)="","",VLOOKUP($A$1,その他費用!$B$7:AH$73,AH$4+1,FALSE)) -> 132 | AI22: =IF(VLOOKUP($A$1,その他費用!$B$7:AI$73,AI$4+1,FALSE)="","",VLOOKUP($A$1,その他費用!$B$7:AI$73,AI$4+1,FALSE)) -> 138 | ... AL22: =IF(VLOOKUP($A$1,その他費用!$B$7:AL$73,AL$4+1,FALSE)="","",VLOOKUP($A$1,その他費用!$B$7:AL$73,AL$4+1,FALSE)) -> 141 | AM22: =IF(VLOOKUP($A$1,その他費用!$B$7:AP$73,AM$4+1,FALSE)="","",VLOOKUP($A$1,その他費用!$B$7:AP$73,AM$4+1,FALSE)) -> 151 | AN22: =IF(VLOOKUP($A$1,その他費用!$B$7:AP$73,AN$4+1,FALSE)="","",VLOOKUP($A$1,その他費用!$B$7:AP$73,AN$4+1,FALSE)) -> 121 | AO22: =IF(VLOOKUP($A$1,その他費用!$B$7:AP$73,AO$4+1,FALSE)="","",VLOOKUP($A$1,その他費用!$B$7:AP$73,AO$4+1,FALSE)) -> 126 | AP22: =IF(VLOOKUP($A$1,その他費用!$B$7:AQ$73,AP$4+1,FALSE)="","",VLOOKUP($A$1,その他費用!$B$7:AQ$73,AP$4+1,FALSE)) -> 115
A23: NOI | B23: （百万円） | C23: =IF(VLOOKUP($A$1,NOI!$B$7:$AA$73,C$4+1,FALSE)="","",VLOOKUP($A$1,NOI!$B$7:$AA$73,C$4+1,FALSE)) -> 3405 | D23: =IF(VLOOKUP($A$1,NOI!$B$7:$AA$73,D$4+1,FALSE)="","",VLOOKUP($A$1,NOI!$B$7:$AA$73,D$4+1,FALSE)) -> 3770 | E23: =IF(VLOOKUP($A$1,NOI!$B$7:$AA$73,E$4+1,FALSE)="","",VLOOKUP($A$1,NOI!$B$7:$AA$73,E$4+1,FALSE)) -> 4438 | F23: =IF(VLOOKUP($A$1,NOI!$B$7:$AA$73,F$4+1,FALSE)="","",VLOOKUP($A$1,NOI!$B$7:$AA$73,F$4+1,FALSE)) -> 5033 | G23: =IF(VLOOKUP($A$1,NOI!$B$7:$AA$73,G$4+1,FALSE)="","",VLOOKUP($A$1,NOI!$B$7:$AA$73,G$4+1,FALSE)) -> 4732 | H23: =IF(VLOOKUP($A$1,NOI!$B$7:$AA$73,H$4+1,FALSE)="","",VLOOKUP($A$1,NOI!$B$7:$AA$73,H$4+1,FALSE)) -> 4814 | I23: =IF(VLOOKUP($A$1,NOI!$B$7:$AA$73,I$4+1,FALSE)="","",VLOOKUP($A$1,NOI!$B$7:$AA$73,I$4+1,FALSE)) -> 4907 | J23: =IF(VLOOKUP($A$1,NOI!$B$7:$AA$73,J$4+1,FALSE)="","",VLOOKUP($A$1,NOI!$B$7:$AA$73,J$4+1,FALSE)) -> 4778 | ... AA23: =IF(VLOOKUP($A$1,NOI!$B$7:$AA$73,AA$4+1,FALSE)="","",VLOOKUP($A$1,NOI!$B$7:$AA$73,AA$4+1,FALSE)) -> 6797 | AB23: =IF(VLOOKUP($A$1,NOI!$B$7:AB$73,AB$4+1,FALSE)="","",VLOOKUP($A$1,NOI!$B$7:AB$73,AB$4+1,FALSE)) -> 6856 | AC23: =IF(VLOOKUP($A$1,NOI!$B$7:AC$73,AC$4+1,FALSE)="","",VLOOKUP($A$1,NOI!$B$7:AC$73,AC$4+1,FALSE)) -> 6913 | AD23: =IF(VLOOKUP($A$1,NOI!$B$7:AD$73,AD$4+1,FALSE)="","",VLOOKUP($A$1,NOI!$B$7:AD$73,AD$4+1,FALSE)) -> 7263 | AE23: =IF(VLOOKUP($A$1,NOI!$B$7:AE$73,AE$4+1,FALSE)="","",VLOOKUP($A$1,NOI!$B$7:AE$73,AE$4+1,FALSE)) -> 7066 | AF23: =IF(VLOOKUP($A$1,NOI!$B$7:AF$73,AF$4+1,FALSE)="","",VLOOKUP($A$1,NOI!$B$7:AF$73,AF$4+1,FALSE)) -> 7059 | AG23: =IF(VLOOKUP($A$1,NOI!$B$7:AG$73,AG$4+1,FALSE)="","",VLOOKUP($A$1,NOI!$B$7:AG$73,AG$4+1,FALSE)) -> 6994 | AH23: =IF(VLOOKUP($A$1,NOI!$B$7:AH$73,AH$4+1,FALSE)="","",VLOOKUP($A$1,NOI!$B$7:AH$73,AH$4+1,FALSE)) -> 6504 | AI23: =IF(VLOOKUP($A$1,NOI!$B$7:AI$73,AI$4+1,FALSE)="","",VLOOKUP($A$1,NOI!$B$7:AI$73,AI$4+1,FALSE)) -> 6128 | ... AL23: =IF(VLOOKUP($A$1,NOI!$B$7:AL$73,AL$4+1,FALSE)="","",VLOOKUP($A$1,NOI!$B$7:AL$73,AL$4+1,FALSE)) -> 6533 | AM23: =IF(VLOOKUP($A$1,NOI!$B$7:AP$73,AM$4+1,FALSE)="","",VLOOKUP($A$1,NOI!$B$7:AP$73,AM$4+1,FALSE)) -> 6839 | AN23: =IF(VLOOKUP($A$1,NOI!$B$7:AP$73,AN$4+1,FALSE)="","",VLOOKUP($A$1,NOI!$B$7:AP$73,AN$4+1,FALSE)) -> 6670 | AO23: =IF(VLOOKUP($A$1,NOI!$B$7:AP$73,AO$4+1,FALSE)="","",VLOOKUP($A$1,NOI!$B$7:AP$73,AO$4+1,FALSE)) -> 7104 | AP23: =IF(VLOOKUP($A$1,NOI!$B$7:AQ$73,AP$4+1,FALSE)="","",VLOOKUP($A$1,NOI!$B$7:AQ$73,AP$4+1,FALSE)) -> 7043
A24: 減価償却費 | B24: （百万円） | C24: =IF(VLOOKUP($A$1,減価償却費!$B$7:$AA$73,C$4+1,FALSE)="","",VLOOKUP($A$1,減価償却費!$B$7:$AA$73,C$4+1,FALSE)) -> 631 | D24: =IF(VLOOKUP($A$1,減価償却費!$B$7:$AA$73,D$4+1,FALSE)="","",VLOOKUP($A$1,減価償却費!$B$7:$AA$73,D$4+1,FALSE)) -> 674 | E24: =IF(VLOOKUP($A$1,減価償却費!$B$7:$AA$73,E$4+1,FALSE)="","",VLOOKUP($A$1,減価償却費!$B$7:$AA$73,E$4+1,FALSE)) -> 894 | F24: =IF(VLOOKUP($A$1,減価償却費!$B$7:$AA$73,F$4+1,FALSE)="","",VLOOKUP($A$1,減価償却費!$B$7:$AA$73,F$4+1,FALSE)) -> 1042 | G24: =IF(VLOOKUP($A$1,減価償却費!$B$7:$AA$73,G$4+1,FALSE)="","",VLOOKUP($A$1,減価償却費!$B$7:$AA$73,G$4+1,FALSE)) -> 995 | H24: =IF(VLOOKUP($A$1,減価償却費!$B$7:$AA$73,H$4+1,FALSE)="","",VLOOKUP($A$1,減価償却費!$B$7:$AA$73,H$4+1,FALSE)) -> 990 | I24: =IF(VLOOKUP($A$1,減価償却費!$B$7:$AA$73,I$4+1,FALSE)="","",VLOOKUP($A$1,減価償却費!$B$7:$AA$73,I$4+1,FALSE)) -> 990 | J24: =IF(VLOOKUP($A$1,減価償却費!$B$7:$AA$73,J$4+1,FALSE)="","",VLOOKUP($A$1,減価償却費!$B$7:$AA$73,J$4+1,FALSE)) -> 992 | ... AA24: =IF(VLOOKUP($A$1,減価償却費!$B$7:$AA$73,AA$4+1,FALSE)="","",VLOOKUP($A$1,減価償却費!$B$7:$AA$73,AA$4+1,FALSE)) -> 1920 | AB24: =IF(VLOOKUP($A$1,減価償却費!$B$7:AB$73,AB$4+1,FALSE)="","",VLOOKUP($A$1,減価償却費!$B$7:AB$73,AB$4+1,FALSE)) -> 1935 | AC24: =IF(VLOOKUP($A$1,減価償却費!$B$7:AC$73,AC$4+1,FALSE)="","",VLOOKUP($A$1,減価償却費!$B$7:AC$73,AC$4+1,FALSE)) -> 1929 | AD24: =IF(VLOOKUP($A$1,減価償却費!$B$7:AD$73,AD$4+1,FALSE)="","",VLOOKUP($A$1,減価償却費!$B$7:AD$73,AD$4+1,FALSE)) -> 1946 | AE24: =IF(VLOOKUP($A$1,減価償却費!$B$7:AE$73,AE$4+1,FALSE)="","",VLOOKUP($A$1,減価償却費!$B$7:AE$73,AE$4+1,FALSE)) -> 1824 | AF24: =IF(VLOOKUP($A$1,減価償却費!$B$7:AF$73,AF$4+1,FALSE)="","",VLOOKUP($A$1,減価償却費!$B$7:AF$73,AF$4+1,FALSE)) -> 1847 | AG24: =IF(VLOOKUP($A$1,減価償却費!$B$7:AG$73,AG$4+1,FALSE)="","",VLOOKUP($A$1,減価償却費!$B$7:AG$73,AG$4+1,FALSE)) -> 1892 | AH24: =IF(VLOOKUP($A$1,減価償却費!$B$7:AH$73,AH$4+1,FALSE)="","",VLOOKUP($A$1,減価償却費!$B$7:AH$73,AH$4+1,FALSE)) -> 1937 | AI24: =IF(VLOOKUP($A$1,減価償却費!$B$7:AI$73,AI$4+1,FALSE)="","",VLOOKUP($A$1,減価償却費!$B$7:AI$73,AI$4+1,FALSE)) -> 1931 | ... AL24: =IF(VLOOKUP($A$1,減価償却費!$B$7:AL$73,AL$4+1,FALSE)="","",VLOOKUP($A$1,減価償却費!$B$7:AL$73,AL$4+1,FALSE)) -> 1850 | AM24: =IF(VLOOKUP($A$1,減価償却費!$B$7:AP$73,AM$4+1,FALSE)="","",VLOOKUP($A$1,減価償却費!$B$7:AP$73,AM$4+1,FALSE)) -> 1865 | AN24: =IF(VLOOKUP($A$1,減価償却費!$B$7:AP$73,AN$4+1,FALSE)="","",VLOOKUP($A$1,減価償却費!$B$7:AP$73,AN$4+1,FALSE)) -> 1761 | AO24: =IF(VLOOKUP($A$1,減価償却費!$B$7:AP$73,AO$4+1,FALSE)="","",VLOOKUP($A$1,減価償却費!$B$7:AP$73,AO$4+1,FALSE)) -> 1789 | AP24: =IF(VLOOKUP($A$1,減価償却費!$B$7:AQ$73,AP$4+1,FALSE)="","",VLOOKUP($A$1,減価償却費!$B$7:AQ$73,AP$4+1,FALSE)) -> 1803
